BEGIN:VCALENDAR
VERSION:2.0
PRODID:-//Kindred Vineyards - ECPv6.15.20//NONSGML v1.0//EN
CALSCALE:GREGORIAN
METHOD:PUBLISH
X-WR-CALNAME:Kindred Vineyards
X-ORIGINAL-URL:https://kindredvineyards.com
X-WR-CALDESC:Events for Kindred Vineyards
REFRESH-INTERVAL;VALUE=DURATION:PT1H
X-Robots-Tag:noindex
X-PUBLISHED-TTL:PT1H
BEGIN:VTIMEZONE
TZID:America/Denver
BEGIN:DAYLIGHT
TZOFFSETFROM:-0700
TZOFFSETTO:-0600
TZNAME:MDT
DTSTART:20240310T090000
END:DAYLIGHT
BEGIN:STANDARD
TZOFFSETFROM:-0600
TZOFFSETTO:-0700
TZNAME:MST
DTSTART:20241103T080000
END:STANDARD
BEGIN:DAYLIGHT
TZOFFSETFROM:-0700
TZOFFSETTO:-0600
TZNAME:MDT
DTSTART:20250309T090000
END:DAYLIGHT
BEGIN:STANDARD
TZOFFSETFROM:-0600
TZOFFSETTO:-0700
TZNAME:MST
DTSTART:20251102T080000
END:STANDARD
BEGIN:DAYLIGHT
TZOFFSETFROM:-0700
TZOFFSETTO:-0600
TZNAME:MDT
DTSTART:20260308T090000
END:DAYLIGHT
BEGIN:STANDARD
TZOFFSETFROM:-0600
TZOFFSETTO:-0700
TZNAME:MST
DTSTART:20261101T080000
END:STANDARD
END:VTIMEZONE
BEGIN:VEVENT
DTSTART;TZID=America/Denver:20250410T183000
DTEND;TZID=America/Denver:20250410T203000
DTSTAMP:20260425T065217
CREATED:20260121T072405Z
LAST-MODIFIED:20260121T072405Z
UID:4378-1744309800-1744317000@kindredvineyards.com
SUMMARY:Live Music Thursdays: Hip.Sounds
DESCRIPTION:Join us for Live Music Thursdays with Hip.Sounds from 6:30-8:30pm! Enjoy live music while savoring our full food menu\, paired with Kindred wine and refreshing beer on tap. Whether you’re here for a casual night out or a special gathering\, it’s the perfect way to unwind. Reservations are highly recommended to ensure your spot for this unforgettable evening. Don’t miss out on great tunes\, delicious food\, and a cozy atmosphere – we can’t wait to see you there!
URL:https://kindredvineyards.com/event/live-music-thursdays-hip-sounds-2/
CATEGORIES:Creek,Live Music
END:VEVENT
END:VCALENDAR