BEGIN:VCALENDAR
VERSION:2.0
PRODID:-//Kindred Vineyards - ECPv6.15.20//NONSGML v1.0//EN
CALSCALE:GREGORIAN
METHOD:PUBLISH
X-WR-CALNAME:Kindred Vineyards
X-ORIGINAL-URL:https://kindredvineyards.com
X-WR-CALDESC:Events for Kindred Vineyards
REFRESH-INTERVAL;VALUE=DURATION:PT1H
X-Robots-Tag:noindex
X-PUBLISHED-TTL:PT1H
BEGIN:VTIMEZONE
TZID:America/Denver
BEGIN:DAYLIGHT
TZOFFSETFROM:-0700
TZOFFSETTO:-0600
TZNAME:MDT
DTSTART:20240310T090000
END:DAYLIGHT
BEGIN:STANDARD
TZOFFSETFROM:-0600
TZOFFSETTO:-0700
TZNAME:MST
DTSTART:20241103T080000
END:STANDARD
BEGIN:DAYLIGHT
TZOFFSETFROM:-0700
TZOFFSETTO:-0600
TZNAME:MDT
DTSTART:20250309T090000
END:DAYLIGHT
BEGIN:STANDARD
TZOFFSETFROM:-0600
TZOFFSETTO:-0700
TZNAME:MST
DTSTART:20251102T080000
END:STANDARD
BEGIN:DAYLIGHT
TZOFFSETFROM:-0700
TZOFFSETTO:-0600
TZNAME:MDT
DTSTART:20260308T090000
END:DAYLIGHT
BEGIN:STANDARD
TZOFFSETFROM:-0600
TZOFFSETTO:-0700
TZNAME:MST
DTSTART:20261101T080000
END:STANDARD
END:VTIMEZONE
BEGIN:VEVENT
DTSTART;TZID=America/Denver:20251019T100000
DTEND;TZID=America/Denver:20251019T140000
DTSTAMP:20260425T171026
CREATED:20260121T072513Z
LAST-MODIFIED:20260121T072515Z
UID:4427-1760868000-1760882400@kindredvineyards.com
SUMMARY:Sunday Brunch at the Creek
DESCRIPTION: BIG NEWS! \nBrunch is coming to Kindred by the Creek! \nStarting Sunday\, October 19th at 10AM\, join us every Sunday for a beautiful\, Italian-inspired wine lounge brunch by the creek.\nEnjoy brunch plates and your favorite Kindred wines and cocktails — all in the heart of downtown Caldwell. \nReserve your table now or walk right in — we’ll save you a seat.
URL:https://kindredvineyards.com/event/sunday-brunch-at-the-creek/
CATEGORIES:Creek
END:VEVENT
END:VCALENDAR