BEGIN:VCALENDAR
VERSION:2.0
PRODID:-//Kindred Vineyards - ECPv6.15.20//NONSGML v1.0//EN
CALSCALE:GREGORIAN
METHOD:PUBLISH
X-ORIGINAL-URL:https://kindredvineyards.com
X-WR-CALDESC:Events for Kindred Vineyards
REFRESH-INTERVAL;VALUE=DURATION:PT1H
X-Robots-Tag:noindex
X-PUBLISHED-TTL:PT1H
BEGIN:VTIMEZONE
TZID:America/Denver
BEGIN:DAYLIGHT
TZOFFSETFROM:-0700
TZOFFSETTO:-0600
TZNAME:MDT
DTSTART:20240310T090000
END:DAYLIGHT
BEGIN:STANDARD
TZOFFSETFROM:-0600
TZOFFSETTO:-0700
TZNAME:MST
DTSTART:20241103T080000
END:STANDARD
BEGIN:DAYLIGHT
TZOFFSETFROM:-0700
TZOFFSETTO:-0600
TZNAME:MDT
DTSTART:20250309T090000
END:DAYLIGHT
BEGIN:STANDARD
TZOFFSETFROM:-0600
TZOFFSETTO:-0700
TZNAME:MST
DTSTART:20251102T080000
END:STANDARD
BEGIN:DAYLIGHT
TZOFFSETFROM:-0700
TZOFFSETTO:-0600
TZNAME:MDT
DTSTART:20260308T090000
END:DAYLIGHT
BEGIN:STANDARD
TZOFFSETFROM:-0600
TZOFFSETTO:-0700
TZNAME:MST
DTSTART:20261101T080000
END:STANDARD
END:VTIMEZONE
BEGIN:VEVENT
DTSTART;TZID=America/Denver:20251206T190000
DTEND;TZID=America/Denver:20251206T220000
DTSTAMP:20260425T202255
CREATED:20260121T072532Z
LAST-MODIFIED:20260121T072534Z
UID:10000184-1765047600-1765058400@kindredvineyards.com
SUMMARY:Holiday Jazz @ Kindred Vineyards
DESCRIPTION:✨ Holiday Jazz Night with The Midnight Jazz Cats ✨ \nJoin us Saturday\, December 6th at Kindred Vineyards for a festive after-hours celebration filled with holiday cheer and timeless jazz. Set beneath the glow of winter lights\, The Midnight Jazz Cats will bring smooth rhythms\, swinging Christmas classics\, and soulful improvisation to warm the night. \nSip on fine wine\, savor seasonal bites\, and unwind with friends as the vineyard transforms into a cozy\, candlelit retreat. Whether you’re a longtime jazz lover or simply in the spirit for a magical holiday evening\, this is one you won’t want to miss. \n📍 Kindred Vineyards📅 Saturday\, December 6th | 7-10pm💵 $20 per person // $15 Wine Club Members \nGet your tickets here – Please note – Tickets are general admission. Seating is open and guests may be seated together.
URL:https://kindredvineyards.com/event/holiday-jazz-kindred-vineyards/
LOCATION:ID
CATEGORIES:Live Music,Winery
END:VEVENT
END:VCALENDAR