BEGIN:VCALENDAR
VERSION:2.0
PRODID:-//Kindred Vineyards - ECPv6.15.20//NONSGML v1.0//EN
CALSCALE:GREGORIAN
METHOD:PUBLISH
X-WR-CALNAME:Kindred Vineyards
X-ORIGINAL-URL:https://kindredvineyards.com
X-WR-CALDESC:Events for Kindred Vineyards
REFRESH-INTERVAL;VALUE=DURATION:PT1H
X-Robots-Tag:noindex
X-PUBLISHED-TTL:PT1H
BEGIN:VTIMEZONE
TZID:America/Denver
BEGIN:DAYLIGHT
TZOFFSETFROM:-0700
TZOFFSETTO:-0600
TZNAME:MDT
DTSTART:20250309T090000
END:DAYLIGHT
BEGIN:STANDARD
TZOFFSETFROM:-0600
TZOFFSETTO:-0700
TZNAME:MST
DTSTART:20251102T080000
END:STANDARD
BEGIN:DAYLIGHT
TZOFFSETFROM:-0700
TZOFFSETTO:-0600
TZNAME:MDT
DTSTART:20260308T090000
END:DAYLIGHT
BEGIN:STANDARD
TZOFFSETFROM:-0600
TZOFFSETTO:-0700
TZNAME:MST
DTSTART:20261101T080000
END:STANDARD
BEGIN:DAYLIGHT
TZOFFSETFROM:-0700
TZOFFSETTO:-0600
TZNAME:MDT
DTSTART:20270314T090000
END:DAYLIGHT
BEGIN:STANDARD
TZOFFSETFROM:-0600
TZOFFSETTO:-0700
TZNAME:MST
DTSTART:20271107T080000
END:STANDARD
END:VTIMEZONE
BEGIN:VEVENT
DTSTART;TZID=America/Denver:20260207T120000
DTEND;TZID=America/Denver:20260207T190000
DTSTAMP:20260425T131722
CREATED:20260129T232751Z
LAST-MODIFIED:20260129T232751Z
UID:10000222-1770465600-1770490800@kindredvineyards.com
SUMMARY:Chip & Sip - Taste\, Pair\, Take Home Your Game Day Wine
DESCRIPTION:Chip & Sip: A Game Day Wine Pairing \nCelebrate game day with a guided wine tasting designed to help you choose the perfect bottle for the big game. We’ll pour a curated selection of our wines alongside thoughtfully paired potato chips\, highlighting how texture\, salt\, and flavor interact with each wine. Discover which wine you’ll want to bring to your game day gathering. \nThe Chip & Sip tasting is $17 and waived with the purchase of a bottle.
URL:https://kindredvineyards.com/event/chip-sip-taste-pair-take-home-your-game-day-wine/
LOCATION:Kindred Vineyards\, 14251 Frost Road\, Caldwell\, ID\, 83607\, United States
CATEGORIES:Activity,Winery
ATTACH;FMTTYPE=image/png:https://kindredvineyards.com/wp-content/uploads/2026/01/Chip-Sip-Logo.png
END:VEVENT
BEGIN:VEVENT
DTSTART;TZID=America/Denver:20260207T120000
DTEND;TZID=America/Denver:20260207T220000
DTSTAMP:20260425T131722
CREATED:20260129T232938Z
LAST-MODIFIED:20260129T232938Z
UID:10000224-1770465600-1770501600@kindredvineyards.com
SUMMARY:Chip & Sip - Taste\, Pair\, Take Home Your Game Day Wine
DESCRIPTION:Chip & Sip: A Game Day Wine Pairing \nCelebrate game day with a guided wine tasting designed to help you choose the perfect bottle for the big game. We’ll pour a curated selection of our wines alongside thoughtfully paired potato chips\, highlighting how texture\, salt\, and flavor interact with each wine. Discover which wine you’ll want to bring to your game day gathering. \nThe Chip & Sip tasting is $17 and waived with the purchase of a bottle.
URL:https://kindredvineyards.com/event/chip-sip-taste-pair-take-home-your-game-day-wine-3/
LOCATION:Kindred Vineyards\, 14251 Frost Road\, Caldwell\, ID\, 83607\, United States
CATEGORIES:Activity,Creek
ATTACH;FMTTYPE=image/png:https://kindredvineyards.com/wp-content/uploads/2026/01/Chip-Sip-Logo.png
END:VEVENT
END:VCALENDAR