BEGIN:VCALENDAR
VERSION:2.0
PRODID:-//Kindred Vineyards - ECPv6.15.20//NONSGML v1.0//EN
CALSCALE:GREGORIAN
METHOD:PUBLISH
X-ORIGINAL-URL:https://kindredvineyards.com
X-WR-CALDESC:Events for Kindred Vineyards
REFRESH-INTERVAL;VALUE=DURATION:PT1H
X-Robots-Tag:noindex
X-PUBLISHED-TTL:PT1H
BEGIN:VTIMEZONE
TZID:America/Denver
BEGIN:DAYLIGHT
TZOFFSETFROM:-0700
TZOFFSETTO:-0600
TZNAME:MDT
DTSTART:20250309T090000
END:DAYLIGHT
BEGIN:STANDARD
TZOFFSETFROM:-0600
TZOFFSETTO:-0700
TZNAME:MST
DTSTART:20251102T080000
END:STANDARD
BEGIN:DAYLIGHT
TZOFFSETFROM:-0700
TZOFFSETTO:-0600
TZNAME:MDT
DTSTART:20260308T090000
END:DAYLIGHT
BEGIN:STANDARD
TZOFFSETFROM:-0600
TZOFFSETTO:-0700
TZNAME:MST
DTSTART:20261101T080000
END:STANDARD
BEGIN:DAYLIGHT
TZOFFSETFROM:-0700
TZOFFSETTO:-0600
TZNAME:MDT
DTSTART:20270314T090000
END:DAYLIGHT
BEGIN:STANDARD
TZOFFSETFROM:-0600
TZOFFSETTO:-0700
TZNAME:MST
DTSTART:20271107T080000
END:STANDARD
END:VTIMEZONE
BEGIN:VEVENT
DTSTART;TZID=America/Denver:20260214T120000
DTEND;TZID=America/Denver:20260214T190000
DTSTAMP:20260425T120319
CREATED:20260121T072846Z
LAST-MODIFIED:20260121T073306Z
UID:10000215-1771070400-1771095600@kindredvineyards.com
SUMMARY:Valentine’s Pairing Experience - Kindred Vineyards
DESCRIPTION:Pairing Experience \nThis tasting includes four pours from our current releases\, each paired with a thoughtful selection of cheese or chocolate. These small bites are designed to enhance notes in each wine. \nThis experience is $25 per guest.With the purchase of four bottles\, the tasting is waived.
URL:https://kindredvineyards.com/event/valentines-pairing-experience-kindred-vineyards/
LOCATION:Kindred Vineyards\, 14251 Frost Road\, Caldwell\, ID\, 83607\, United States
CATEGORIES:Activity,Winery
END:VEVENT
END:VCALENDAR