BEGIN:VCALENDAR
VERSION:2.0
PRODID:-//Kindred Vineyards - ECPv6.15.20//NONSGML v1.0//EN
CALSCALE:GREGORIAN
METHOD:PUBLISH
X-WR-CALNAME:Kindred Vineyards
X-ORIGINAL-URL:https://kindredvineyards.com
X-WR-CALDESC:Events for Kindred Vineyards
REFRESH-INTERVAL;VALUE=DURATION:PT1H
X-Robots-Tag:noindex
X-PUBLISHED-TTL:PT1H
BEGIN:VTIMEZONE
TZID:America/Denver
BEGIN:DAYLIGHT
TZOFFSETFROM:-0700
TZOFFSETTO:-0600
TZNAME:MDT
DTSTART:20240310T090000
END:DAYLIGHT
BEGIN:STANDARD
TZOFFSETFROM:-0600
TZOFFSETTO:-0700
TZNAME:MST
DTSTART:20241103T080000
END:STANDARD
BEGIN:DAYLIGHT
TZOFFSETFROM:-0700
TZOFFSETTO:-0600
TZNAME:MDT
DTSTART:20250309T090000
END:DAYLIGHT
BEGIN:STANDARD
TZOFFSETFROM:-0600
TZOFFSETTO:-0700
TZNAME:MST
DTSTART:20251102T080000
END:STANDARD
BEGIN:DAYLIGHT
TZOFFSETFROM:-0700
TZOFFSETTO:-0600
TZNAME:MDT
DTSTART:20260308T090000
END:DAYLIGHT
BEGIN:STANDARD
TZOFFSETFROM:-0600
TZOFFSETTO:-0700
TZNAME:MST
DTSTART:20261101T080000
END:STANDARD
END:VTIMEZONE
BEGIN:VEVENT
DTSTART;TZID=America/Denver:20251106T183000
DTEND;TZID=America/Denver:20251106T203000
DTSTAMP:20260425T212036
CREATED:20260121T072518Z
LAST-MODIFIED:20260121T072518Z
UID:10000177-1762453800-1762461000@kindredvineyards.com
SUMMARY:Live Music Thursdays: Bob Rawleigh
DESCRIPTION:Join us for Live Music Thursdays with Bob Rawleigh from 6:30-8:30pm! Enjoy live music while savoring our full food menu\, paired with Kindred wine and refreshing beer on tap. Whether you’re here for a casual night out or a special gathering\, it’s the perfect way to unwind. Reservations are highly recommended to ensure your spot for this unforgettable evening. Don’t miss out on great tunes\, delicious food\, and a cozy atmosphere – we can’t wait to see you there! Make a reservation here.
URL:https://kindredvineyards.com/event/live-music-thursdays-bob-rawleigh-6/
LOCATION:ID
CATEGORIES:Creek,Live Music
END:VEVENT
BEGIN:VEVENT
DTSTART;TZID=America/Denver:20251107T180000
DTEND;TZID=America/Denver:20251107T200000
DTSTAMP:20260425T212036
CREATED:20260121T072518Z
LAST-MODIFIED:20260121T072518Z
UID:10000180-1762538400-1762545600@kindredvineyards.com
SUMMARY:Sip & Skin - Spa Night
DESCRIPTION:Sip & Skin is the perfect evening to unwind\, indulge\, and glow. Join us at Bubbly Facial Bar around the corner from Kindred by the Creek for a relaxing night of skincare and self-care\, paired with your favorite Kindred wines. Enjoy a facial treatment\, expert tips\, and luxurious products while sipping on award-winning wines in a cozy\, upscale atmosphere. Treat yourself\, bring a friend\, and leave feeling refreshed inside and out.\nTickets include:\n– 45 minute rejuvenating facial at Bubbly Facial Bar– Cocktail hour with light snacks– A glass of Kindred wine of your choice– An evening of self-care\, relaxation\, and connection.\nTickets are $70/per person\n\nGet tickets here\nLocation: Bubbly Facial Bar 616 Main St Suite 105\, Caldwell\, ID 83605
URL:https://kindredvineyards.com/event/sip-skin-spa-night/
LOCATION:ID
CATEGORIES:Activity,Creek
END:VEVENT
BEGIN:VEVENT
DTSTART;TZID=America/Denver:20251113T183000
DTEND;TZID=America/Denver:20251113T203000
DTSTAMP:20260425T212036
CREATED:20260121T072518Z
LAST-MODIFIED:20260121T072518Z
UID:10000178-1763058600-1763065800@kindredvineyards.com
SUMMARY:Live Music Thursdays: Rochelle and the James Gang
DESCRIPTION:Join us for Live Music Thursdays with  Rochelle and the James Gang from 6:30-8:30pm! Enjoy live music while savoring our full food menu\, paired with Kindred wine and refreshing beer on tap. Whether you’re here for a casual night out or a special gathering\, it’s the perfect way to unwind. Reservations are highly recommended to ensure your spot for this unforgettable evening. Don’t miss out on great tunes\, delicious food\, and a cozy atmosphere – we can’t wait to see you there! Make a reservation here.
URL:https://kindredvineyards.com/event/live-music-thursdays-rochelle-and-the-james-gang-2/
LOCATION:ID
CATEGORIES:Creek,Live Music
END:VEVENT
BEGIN:VEVENT
DTSTART;TZID=America/Denver:20251116T100000
DTEND;TZID=America/Denver:20251116T140000
DTSTAMP:20260425T212036
CREATED:20260121T072536Z
LAST-MODIFIED:20260121T072536Z
UID:10000189-1763287200-1763301600@kindredvineyards.com
SUMMARY:Sunday Brunch at Kindred by the Creek
DESCRIPTION:Sunday Brunch at Kindred by the Creek | 10 AM – 2 PM \nJoin us every Sunday at Kindred by the Creek for a relaxed and delicious Italian-inspired brunch in the heart of downtown Caldwell. From 10am to 2pm\, enjoy wood-fired favorites\, fresh seasonal dishes\, and perfectly paired Kindred Vineyards wines that bring a taste of Italy to Idaho. \nSet along the creek\, our cozy wine lounge offers the perfect setting to sip\, savor\, and slow down with friends and family. Whether you’re craving brunch pizza\, deviled eggs with a twist\, or a mimosa flight\, brunch at Kindred by the Creek is the ultimate way to unwind and start your Sunday right. \nReservations encouraged. Walk-ins welcome.
URL:https://kindredvineyards.com/event/sunday-brunch-at-kindred-by-the-creek/
LOCATION:ID
CATEGORIES:Activity,Creek
END:VEVENT
BEGIN:VEVENT
DTSTART;TZID=America/Denver:20251120T180000
DTEND;TZID=America/Denver:20251120T210000
DTSTAMP:20260425T212036
CREATED:20260121T072519Z
LAST-MODIFIED:20260121T072519Z
UID:10000181-1763661600-1763672400@kindredvineyards.com
SUMMARY:Jingle\, Mingle\, & Sip - Tree Lighting and Live Music @ Kindred Vineyards
DESCRIPTION:🎄 Jingle\, Mingle\, and Sip at Kindred Vineyards \nKick off the holiday season with us at the vineyard for a festive evening filled with wine\, music\, and cheer! Join us as we light our Christmas tree and officially welcome the magic of the season. \nEnjoy live holiday tunes from the talented Bob Rawleigh\, sip your favorite wines\, and mingle under the glow of twinkling lights. Grab a glass of mulled wine and take in the vineyard views as they sparkle with holiday charm. \nEvent Details:Kindred Vineyards – 14253 Frost Rd. Caldwell\, ID 836076-9pm \nFood and beverages will be available for purchase. Bring your friends\, your holiday spirit\, and maybe a blanket to stay cozy outdoors! This event is family-friendly\, and no reservations are required. \nLet’s jingle\, mingle\, and sip our way into Christmas together!
URL:https://kindredvineyards.com/event/jingle-mingle-sip-tree-lighting-and-live-music-kindred-vineyards/
LOCATION:ID
CATEGORIES:Live Music,Winery
END:VEVENT
BEGIN:VEVENT
DTSTART;TZID=America/Denver:20251120T183000
DTEND;TZID=America/Denver:20251120T203000
DTSTAMP:20260425T212036
CREATED:20260121T072532Z
LAST-MODIFIED:20260121T072534Z
UID:10000182-1763663400-1763670600@kindredvineyards.com
SUMMARY:Live Music Thursdays: Jordan Shaw
DESCRIPTION:Join us for Live Music Thursdays with Jordan Shaw from 6:30-8:30pm! Enjoy live music while savoring our full food menu\, paired with Kindred wine and refreshing beer on tap. Whether you’re here for a casual night out or a special gathering\, it’s the perfect way to unwind. Reservations are highly recommended to ensure your spot for this unforgettable evening. Don’t miss out on great tunes\, delicious food\, and a cozy atmosphere – we can’t wait to see you there! Make a reservation here.
URL:https://kindredvineyards.com/event/live-music-thursdays-jordan-shaw-3/
LOCATION:ID
CATEGORIES:Creek,Live Music
END:VEVENT
BEGIN:VEVENT
DTSTART;TZID=America/Denver:20251121T160000
DTEND;TZID=America/Denver:20251121T220000
DTSTAMP:20260425T212036
CREATED:20260121T072518Z
LAST-MODIFIED:20260121T072518Z
UID:10000179-1763740800-1763762400@kindredvineyards.com
SUMMARY:Winter Wonderland Festival Kickoff
DESCRIPTION:Experience the magic of the season as downtown Caldwell transforms into a winter wonderland with over 1.5 million twinkling lights. Fun for the whole family\, enjoy ice skating\, horse-drawn carriage rides\, live music\, winter markets\, and the lighting of the city’s Christmas tree.\nFinish off your evening with a hot cocktail and woodfired pizza at Kindred by the Creek!
URL:https://kindredvineyards.com/event/winter-wonderland-festival-kickoff/
LOCATION:ID
CATEGORIES:Activity,Creek
END:VEVENT
BEGIN:VEVENT
DTSTART;TZID=America/Denver:20251123T100000
DTEND;TZID=America/Denver:20251123T140000
DTSTAMP:20260425T212036
CREATED:20260121T072536Z
LAST-MODIFIED:20260121T072536Z
UID:10000190-1763892000-1763906400@kindredvineyards.com
SUMMARY:Sunday Brunch at Kindred by the Creek
DESCRIPTION:Sunday Brunch at Kindred by the Creek | 10 AM – 2 PM \nJoin us every Sunday at Kindred by the Creek for a relaxed and delicious Italian-inspired brunch in the heart of downtown Caldwell. From 10am to 2pm\, enjoy wood-fired favorites\, fresh seasonal dishes\, and perfectly paired Kindred Vineyards wines that bring a taste of Italy to Idaho. \nSet along the creek\, our cozy wine lounge offers the perfect setting to sip\, savor\, and slow down with friends and family. Whether you’re craving brunch pizza\, deviled eggs with a twist\, or a mimosa flight\, brunch at Kindred by the Creek is the ultimate way to unwind and start your Sunday right. \nReservations encouraged. Walk-ins welcome.
URL:https://kindredvineyards.com/event/sunday-brunch-at-kindred-by-the-creek-2/
LOCATION:ID
CATEGORIES:Activity,Creek
END:VEVENT
BEGIN:VEVENT
DTSTART;TZID=America/Denver:20251123T170000
DTEND;TZID=America/Denver:20251123T190000
DTSTAMP:20260425T212036
CREATED:20260121T072536Z
LAST-MODIFIED:20260121T072536Z
UID:10000187-1763917200-1763924400@kindredvineyards.com
SUMMARY:Wine and Pie Pairing @ Kindred Vineyards
DESCRIPTION:🥧 Wine & Pie Pairing Class 🍷 \nIndulge in the ultimate cozy-season experience with our Wine & Pie Pairing Class! Enjoy three perfectly paired pours of Kindred wine alongside three delicious homemade mini pies\, crafted to complement each sip. \nDuring this guided tasting\, you’ll explore how the flavors\, textures\, and sweetness of each pie enhance the character of the wines—creating the perfect harmony of dessert and wine. Whether you’re a wine enthusiast or just love pie\, this class is a delightful way to savor the season\, learn a little\, and treat yourself to something special. \nSpace is limited—reserve your spot and come enjoy this sweet pairing experience! Get Tickets here
URL:https://kindredvineyards.com/event/wine-and-pie-pairing-kindred-vineyards/
LOCATION:ID
CATEGORIES:Live Music,Winery
END:VEVENT
BEGIN:VEVENT
DTSTART;TZID=America/Denver:20251128T120000
DTEND;TZID=America/Denver:20251130T190000
DTSTAMP:20260425T212036
CREATED:20260121T072532Z
LAST-MODIFIED:20260121T072534Z
UID:10000183-1764331200-1764529200@kindredvineyards.com
SUMMARY:Thanksgiving Weekend @ Kindred Vineyards
DESCRIPTION:🍂 Thanksgiving Weekend at Kindred Vineyards 🍷 \nCelebrate the season of gratitude at Kindred Vineyards! Join us for a relaxing Thanksgiving Weekend filled with great wine\, live music\, and good company among the vines. \nEnjoy live music on Saturday from 2–4 PM with the smooth sounds of Bob Rawleigh\, and Sunday from 2–4 PM with the soulful vibes of Hip.Sounds. \nOur exclusive barrel tastings will be available all weekend for our Wine Club members—an intimate chance to sample future vintages straight from the barrel. Not a member yet? Sign up for our Wine Club during Thanksgiving Weekend and enjoy a complimentary barrel tasting as our way of saying welcome to the family. \nPlus\, buy 4 bottles of any Kindred wine—library wines or regular menu wines—and receive a complimentary pizza. \nCome sip\, unwind\, and savor the long weekend at Kindred Vineyards.
URL:https://kindredvineyards.com/event/thanksgiving-weekend-kindred-vineyards/
LOCATION:ID
CATEGORIES:Live Music,Winery
END:VEVENT
BEGIN:VEVENT
DTSTART;TZID=America/Denver:20251130T100000
DTEND;TZID=America/Denver:20251130T140000
DTSTAMP:20260425T212036
CREATED:20260121T072536Z
LAST-MODIFIED:20260121T072536Z
UID:10000191-1764496800-1764511200@kindredvineyards.com
SUMMARY:Sunday Brunch at Kindred by the Creek
DESCRIPTION:Sunday Brunch at Kindred by the Creek | 10 AM – 2 PM \nJoin us every Sunday at Kindred by the Creek for a relaxed and delicious Italian-inspired brunch in the heart of downtown Caldwell. From 10am to 2pm\, enjoy wood-fired favorites\, fresh seasonal dishes\, and perfectly paired Kindred Vineyards wines that bring a taste of Italy to Idaho. \nSet along the creek\, our cozy wine lounge offers the perfect setting to sip\, savor\, and slow down with friends and family. Whether you’re craving brunch pizza\, deviled eggs with a twist\, or a mimosa flight\, brunch at Kindred by the Creek is the ultimate way to unwind and start your Sunday right. \nReservations encouraged. Walk-ins welcome.
URL:https://kindredvineyards.com/event/sunday-brunch-at-kindred-by-the-creek-3/
LOCATION:ID
CATEGORIES:Activity,Creek
END:VEVENT
END:VCALENDAR