BEGIN:VCALENDAR
VERSION:2.0
PRODID:-//Kindred Vineyards - ECPv6.15.20//NONSGML v1.0//EN
CALSCALE:GREGORIAN
METHOD:PUBLISH
X-ORIGINAL-URL:https://kindredvineyards.com
X-WR-CALDESC:Events for Kindred Vineyards
REFRESH-INTERVAL;VALUE=DURATION:PT1H
X-Robots-Tag:noindex
X-PUBLISHED-TTL:PT1H
BEGIN:VTIMEZONE
TZID:America/Denver
BEGIN:DAYLIGHT
TZOFFSETFROM:-0700
TZOFFSETTO:-0600
TZNAME:MDT
DTSTART:20240310T090000
END:DAYLIGHT
BEGIN:STANDARD
TZOFFSETFROM:-0600
TZOFFSETTO:-0700
TZNAME:MST
DTSTART:20241103T080000
END:STANDARD
BEGIN:DAYLIGHT
TZOFFSETFROM:-0700
TZOFFSETTO:-0600
TZNAME:MDT
DTSTART:20250309T090000
END:DAYLIGHT
BEGIN:STANDARD
TZOFFSETFROM:-0600
TZOFFSETTO:-0700
TZNAME:MST
DTSTART:20251102T080000
END:STANDARD
BEGIN:DAYLIGHT
TZOFFSETFROM:-0700
TZOFFSETTO:-0600
TZNAME:MDT
DTSTART:20260308T090000
END:DAYLIGHT
BEGIN:STANDARD
TZOFFSETFROM:-0600
TZOFFSETTO:-0700
TZNAME:MST
DTSTART:20261101T080000
END:STANDARD
END:VTIMEZONE
BEGIN:VEVENT
DTSTART;TZID=America/Denver:20251206T190000
DTEND;TZID=America/Denver:20251206T220000
DTSTAMP:20260425T223445
CREATED:20260121T072532Z
LAST-MODIFIED:20260121T072534Z
UID:10000184-1765047600-1765058400@kindredvineyards.com
SUMMARY:Holiday Jazz @ Kindred Vineyards
DESCRIPTION:✨ Holiday Jazz Night with The Midnight Jazz Cats ✨ \nJoin us Saturday\, December 6th at Kindred Vineyards for a festive after-hours celebration filled with holiday cheer and timeless jazz. Set beneath the glow of winter lights\, The Midnight Jazz Cats will bring smooth rhythms\, swinging Christmas classics\, and soulful improvisation to warm the night. \nSip on fine wine\, savor seasonal bites\, and unwind with friends as the vineyard transforms into a cozy\, candlelit retreat. Whether you’re a longtime jazz lover or simply in the spirit for a magical holiday evening\, this is one you won’t want to miss. \n📍 Kindred Vineyards📅 Saturday\, December 6th | 7-10pm💵 $20 per person // $15 Wine Club Members \nGet your tickets here – Please note – Tickets are general admission. Seating is open and guests may be seated together.
URL:https://kindredvineyards.com/event/holiday-jazz-kindred-vineyards/
LOCATION:ID
CATEGORIES:Live Music,Winery
END:VEVENT
BEGIN:VEVENT
DTSTART;TZID=America/Denver:20251207T100000
DTEND;TZID=America/Denver:20251207T140000
DTSTAMP:20260425T223445
CREATED:20260121T072548Z
LAST-MODIFIED:20260121T072552Z
UID:10000192-1765101600-1765116000@kindredvineyards.com
SUMMARY:Sunday Brunch at Kindred by the Creek
DESCRIPTION:Sunday Brunch at Kindred by the Creek | 10 AM – 2 PM \nJoin us every Sunday at Kindred by the Creek for a relaxed and delicious Italian-inspired brunch in the heart of downtown Caldwell. From 10am to 2pm\, enjoy wood-fired favorites\, fresh seasonal dishes\, and perfectly paired Kindred Vineyards wines that bring a taste of Italy to Idaho. \nSet along the creek\, our cozy wine lounge offers the perfect setting to sip\, savor\, and slow down with friends and family. Whether you’re craving brunch pizza\, deviled eggs with a twist\, or a mimosa flight\, brunch at Kindred by the Creek is the ultimate way to unwind and start your Sunday right. \nReservations encouraged. Walk-ins welcome.
URL:https://kindredvineyards.com/event/sunday-brunch-at-kindred-by-the-creek-4/
LOCATION:ID
CATEGORIES:Activity,Creek
END:VEVENT
BEGIN:VEVENT
DTSTART;TZID=America/Denver:20251207T160000
DTEND;TZID=America/Denver:20251207T170000
DTSTAMP:20260425T223445
CREATED:20260121T072536Z
LAST-MODIFIED:20260121T072536Z
UID:10000188-1765123200-1765126800@kindredvineyards.com
SUMMARY:Mr. and Mrs. Claus @ Kindred Vineyards
DESCRIPTION:Kick off the holiday season with a festive afternoon at Kindred Vineyards! Mr. and Mrs. Claus are making a special stop at the vineyard—perfect for family photos and holiday cheer. Sip on a cozy cup of mulled wine\, enjoy our woodfired pizza straight from the oven\, and fill your wine rack for the season with your favorite Kindred wines. \nBring the whole family to enjoy the magic of the season surrounded by twinkling lights\, good company\, and the warmth of the vineyard. It’s the perfect way to toast to the holidays and make lasting memories!
URL:https://kindredvineyards.com/event/mr-and-mrs-claus-kindred-vineyards/
LOCATION:ID
CATEGORIES:Live Music,Winery
END:VEVENT
BEGIN:VEVENT
DTSTART;TZID=America/Denver:20251209T183000
DTEND;TZID=America/Denver:20251209T200000
DTSTAMP:20260425T223445
CREATED:20260121T072550Z
LAST-MODIFIED:20260121T072553Z
UID:10000196-1765305000-1765310400@kindredvineyards.com
SUMMARY:Worship Night with Good Time Charlie @ Kindred Vineyards
DESCRIPTION:Join us for worship night on Tuesday evening. Our kitchen will be open and drinks are available.
URL:https://kindredvineyards.com/event/worship-night-with-good-time-charlie-kindred-vineyards-4/
LOCATION:ID
CATEGORIES:Winery
END:VEVENT
BEGIN:VEVENT
DTSTART;TZID=America/Denver:20251211T180000
DTEND;TZID=America/Denver:20251211T200000
DTSTAMP:20260425T223445
CREATED:20260121T072532Z
LAST-MODIFIED:20260121T072534Z
UID:10000185-1765476000-1765483200@kindredvineyards.com
SUMMARY:December Wine Club Release Party
DESCRIPTION:Celebrate the season with an evening of exceptional wine and festive flavors at Kindred Vineyards. Join us at 6 PM for an exclusive Vertical Tasting featuring our newest release\, Moonlit Cello Cabernet Sauvignon. Explore how this elegant wine has evolved through the years as you sip through a curated lineup of vintages\, guided by our winemaker’s insights. \nFollowing the tasting\, gather around Santa’s Holiday Harvest Table—a beautiful spread inspired by the season’s best ingredients. Enjoy a cozy\, farm-to-table meal perfectly paired with Kindred wines and the warmth of holiday cheer.
URL:https://kindredvineyards.com/event/december-wine-club-release-party/
LOCATION:ID
CATEGORIES:Live Music,Winery
END:VEVENT
BEGIN:VEVENT
DTSTART;TZID=America/Denver:20251213T190000
DTEND;TZID=America/Denver:20251213T220000
DTSTAMP:20260425T223445
CREATED:20260121T072532Z
LAST-MODIFIED:20260121T072534Z
UID:10000186-1765652400-1765663200@kindredvineyards.com
SUMMARY:Fortissimo Carolers @ Kindred Vineyards
DESCRIPTION:Holiday Caroling at Kindred Vineyards \nJoin us Saturday\, December 13th at Kindred Vineyards for a festive after-hours celebration filled with holiday cheer\, cozy ambiance\, and the timeless magic of Christmas carols. Set beneath the glow of winter lights\, our live carolers will fill the vineyard with the joyful sounds of the season — from beloved classics to heartwarming harmonies that bring everyone together. \nSip on fine wine\, savor seasonal bites\, and unwind with friends as the vineyard transforms into a candlelit winter retreat. Whether you love to sing along or simply enjoy the sound of voices drifting through the vines\, this evening is sure to spark your holiday spirit. \n📍 Kindred Vineyards📅 Saturday\, December 13th | 7–10 PM💵 $25 per person // $20 Wine Club Members \nGet Tickets
URL:https://kindredvineyards.com/event/fortissimo-carolers-kindred-vineyards/
LOCATION:ID
CATEGORIES:Live Music,Winery
END:VEVENT
BEGIN:VEVENT
DTSTART;TZID=America/Denver:20251214T100000
DTEND;TZID=America/Denver:20251214T140000
DTSTAMP:20260425T223445
CREATED:20260121T072548Z
LAST-MODIFIED:20260121T072553Z
UID:10000193-1765706400-1765720800@kindredvineyards.com
SUMMARY:Sunday Brunch at Kindred by the Creek
DESCRIPTION:Sunday Brunch at Kindred by the Creek | 10 AM – 2 PM \nJoin us every Sunday at Kindred by the Creek for a relaxed and delicious Italian-inspired brunch in the heart of downtown Caldwell. From 10am to 2pm\, enjoy wood-fired favorites\, fresh seasonal dishes\, and perfectly paired Kindred Vineyards wines that bring a taste of Italy to Idaho. \nSet along the creek\, our cozy wine lounge offers the perfect setting to sip\, savor\, and slow down with friends and family. Whether you’re craving brunch pizza\, deviled eggs with a twist\, or a mimosa flight\, brunch at Kindred by the Creek is the ultimate way to unwind and start your Sunday right. \nReservations encouraged. Walk-ins welcome.
URL:https://kindredvineyards.com/event/sunday-brunch-at-kindred-by-the-creek-5/
LOCATION:ID
CATEGORIES:Activity,Creek
END:VEVENT
BEGIN:VEVENT
DTSTART;TZID=America/Denver:20251221T100000
DTEND;TZID=America/Denver:20251221T140000
DTSTAMP:20260425T223445
CREATED:20260121T072549Z
LAST-MODIFIED:20260121T072553Z
UID:10000194-1766311200-1766325600@kindredvineyards.com
SUMMARY:Sunday Brunch at Kindred by the Creek
DESCRIPTION:Sunday Brunch at Kindred by the Creek | 10 AM – 2 PM \nJoin us every Sunday at Kindred by the Creek for a relaxed and delicious Italian-inspired brunch in the heart of downtown Caldwell. From 10am to 2pm\, enjoy wood-fired favorites\, fresh seasonal dishes\, and perfectly paired Kindred Vineyards wines that bring a taste of Italy to Idaho. \nSet along the creek\, our cozy wine lounge offers the perfect setting to sip\, savor\, and slow down with friends and family. Whether you’re craving brunch pizza\, deviled eggs with a twist\, or a mimosa flight\, brunch at Kindred by the Creek is the ultimate way to unwind and start your Sunday right. \nReservations encouraged. Walk-ins welcome.
URL:https://kindredvineyards.com/event/sunday-brunch-at-kindred-by-the-creek-6/
LOCATION:ID
CATEGORIES:Activity,Creek
END:VEVENT
BEGIN:VEVENT
DTSTART;TZID=America/Denver:20251228T100000
DTEND;TZID=America/Denver:20251228T140000
DTSTAMP:20260425T223445
CREATED:20260121T072549Z
LAST-MODIFIED:20260121T072553Z
UID:10000195-1766916000-1766930400@kindredvineyards.com
SUMMARY:Sunday Brunch at Kindred by the Creek
DESCRIPTION:Sunday Brunch at Kindred by the Creek | 10 AM – 2 PM \nJoin us every Sunday at Kindred by the Creek for a relaxed and delicious Italian-inspired brunch in the heart of downtown Caldwell. From 10am to 2pm\, enjoy wood-fired favorites\, fresh seasonal dishes\, and perfectly paired Kindred Vineyards wines that bring a taste of Italy to Idaho. \nSet along the creek\, our cozy wine lounge offers the perfect setting to sip\, savor\, and slow down with friends and family. Whether you’re craving brunch pizza\, deviled eggs with a twist\, or a mimosa flight\, brunch at Kindred by the Creek is the ultimate way to unwind and start your Sunday right. \nReservations encouraged. Walk-ins welcome.
URL:https://kindredvineyards.com/event/sunday-brunch-at-kindred-by-the-creek-7/
LOCATION:ID
CATEGORIES:Activity,Creek
END:VEVENT
END:VCALENDAR