BEGIN:VCALENDAR
VERSION:2.0
PRODID:-//Kindred Vineyards - ECPv6.15.20//NONSGML v1.0//EN
CALSCALE:GREGORIAN
METHOD:PUBLISH
X-WR-CALNAME:Kindred Vineyards
X-ORIGINAL-URL:https://kindredvineyards.com
X-WR-CALDESC:Events for Kindred Vineyards
REFRESH-INTERVAL;VALUE=DURATION:PT1H
X-Robots-Tag:noindex
X-PUBLISHED-TTL:PT1H
BEGIN:VTIMEZONE
TZID:America/Denver
BEGIN:DAYLIGHT
TZOFFSETFROM:-0700
TZOFFSETTO:-0600
TZNAME:MDT
DTSTART:20250309T090000
END:DAYLIGHT
BEGIN:STANDARD
TZOFFSETFROM:-0600
TZOFFSETTO:-0700
TZNAME:MST
DTSTART:20251102T080000
END:STANDARD
BEGIN:DAYLIGHT
TZOFFSETFROM:-0700
TZOFFSETTO:-0600
TZNAME:MDT
DTSTART:20260308T090000
END:DAYLIGHT
BEGIN:STANDARD
TZOFFSETFROM:-0600
TZOFFSETTO:-0700
TZNAME:MST
DTSTART:20261101T080000
END:STANDARD
BEGIN:DAYLIGHT
TZOFFSETFROM:-0700
TZOFFSETTO:-0600
TZNAME:MDT
DTSTART:20270314T090000
END:DAYLIGHT
BEGIN:STANDARD
TZOFFSETFROM:-0600
TZOFFSETTO:-0700
TZNAME:MST
DTSTART:20271107T080000
END:STANDARD
END:VTIMEZONE
BEGIN:VEVENT
DTSTART;TZID=America/Denver:20260207T120000
DTEND;TZID=America/Denver:20260207T190000
DTSTAMP:20260425T104006
CREATED:20260129T232751Z
LAST-MODIFIED:20260129T232751Z
UID:10000222-1770465600-1770490800@kindredvineyards.com
SUMMARY:Chip & Sip - Taste\, Pair\, Take Home Your Game Day Wine
DESCRIPTION:Chip & Sip: A Game Day Wine Pairing \nCelebrate game day with a guided wine tasting designed to help you choose the perfect bottle for the big game. We’ll pour a curated selection of our wines alongside thoughtfully paired potato chips\, highlighting how texture\, salt\, and flavor interact with each wine. Discover which wine you’ll want to bring to your game day gathering. \nThe Chip & Sip tasting is $17 and waived with the purchase of a bottle.
URL:https://kindredvineyards.com/event/chip-sip-taste-pair-take-home-your-game-day-wine/
LOCATION:Kindred Vineyards\, 14251 Frost Road\, Caldwell\, ID\, 83607\, United States
CATEGORIES:Activity,Winery
ATTACH;FMTTYPE=image/png:https://kindredvineyards.com/wp-content/uploads/2026/01/Chip-Sip-Logo.png
END:VEVENT
BEGIN:VEVENT
DTSTART;TZID=America/Denver:20260207T120000
DTEND;TZID=America/Denver:20260207T220000
DTSTAMP:20260425T104006
CREATED:20260129T232938Z
LAST-MODIFIED:20260129T232938Z
UID:10000224-1770465600-1770501600@kindredvineyards.com
SUMMARY:Chip & Sip - Taste\, Pair\, Take Home Your Game Day Wine
DESCRIPTION:Chip & Sip: A Game Day Wine Pairing \nCelebrate game day with a guided wine tasting designed to help you choose the perfect bottle for the big game. We’ll pour a curated selection of our wines alongside thoughtfully paired potato chips\, highlighting how texture\, salt\, and flavor interact with each wine. Discover which wine you’ll want to bring to your game day gathering. \nThe Chip & Sip tasting is $17 and waived with the purchase of a bottle.
URL:https://kindredvineyards.com/event/chip-sip-taste-pair-take-home-your-game-day-wine-3/
LOCATION:Kindred Vineyards\, 14251 Frost Road\, Caldwell\, ID\, 83607\, United States
CATEGORIES:Activity,Creek
ATTACH;FMTTYPE=image/png:https://kindredvineyards.com/wp-content/uploads/2026/01/Chip-Sip-Logo.png
END:VEVENT
BEGIN:VEVENT
DTSTART;TZID=America/Denver:20260208T100000
DTEND;TZID=America/Denver:20260208T200000
DTSTAMP:20260425T104006
CREATED:20260129T233026Z
LAST-MODIFIED:20260129T233026Z
UID:10000225-1770544800-1770580800@kindredvineyards.com
SUMMARY:Chip & Sip - Taste\, Pair\, Take Home Your Game Day Wine
DESCRIPTION:Chip & Sip: A Game Day Wine Pairing \nCelebrate game day with a guided wine tasting designed to help you choose the perfect bottle for the big game. We’ll pour a curated selection of our wines alongside thoughtfully paired potato chips\, highlighting how texture\, salt\, and flavor interact with each wine. Discover which wine you’ll want to bring to your game day gathering. \nThe Chip & Sip tasting is $17 and waived with the purchase of a bottle.
URL:https://kindredvineyards.com/event/chip-sip-taste-pair-take-home-your-game-day-wine-4/
LOCATION:Kindred by the Creek\, 616 Main St Suite 106\, Caldwell\, ID\, 83607\, United States
CATEGORIES:Activity,Creek
ATTACH;FMTTYPE=image/png:https://kindredvineyards.com/wp-content/uploads/2026/01/Chip-Sip-Logo.png
END:VEVENT
BEGIN:VEVENT
DTSTART;TZID=America/Denver:20260208T120000
DTEND;TZID=America/Denver:20260208T190000
DTSTAMP:20260425T104006
CREATED:20260129T232856Z
LAST-MODIFIED:20260129T232856Z
UID:10000223-1770552000-1770577200@kindredvineyards.com
SUMMARY:Chip & Sip - Taste\, Pair\, Take Home Your Game Day Wine
DESCRIPTION:Chip & Sip: A Game Day Wine Pairing \nCelebrate game day with a guided wine tasting designed to help you choose the perfect bottle for the big game. We’ll pour a curated selection of our wines alongside thoughtfully paired potato chips\, highlighting how texture\, salt\, and flavor interact with each wine. Discover which wine you’ll want to bring to your game day gathering. \nThe Chip & Sip tasting is $17 and waived with the purchase of a bottle.
URL:https://kindredvineyards.com/event/chip-sip-taste-pair-take-home-your-game-day-wine-2/
LOCATION:Kindred Vineyards\, 14251 Frost Road\, Caldwell\, ID\, 83607\, United States
CATEGORIES:Activity,Winery
ATTACH;FMTTYPE=image/png:https://kindredvineyards.com/wp-content/uploads/2026/01/Chip-Sip-Logo.png
END:VEVENT
BEGIN:VEVENT
DTSTART;TZID=America/Denver:20260211T180000
DTEND;TZID=America/Denver:20260211T210000
DTSTAMP:20260425T104006
CREATED:20260121T072845Z
LAST-MODIFIED:20260122T094635Z
UID:10000214-1770832800-1770843600@kindredvineyards.com
SUMMARY:Galentine's Night - Kindred by the Creek
DESCRIPTION:Join us for a Galentine’s evening filled with wine\, laughs\, and spending a few hours with your favorite people. Come try our seasonal flight\, catch up\, and stay awhile — no plans needed beyond great company and an excuse to dress up. Dress cute\, order another glass\, and enjoy a laid-back night out with your girls.
URL:https://kindredvineyards.com/event/galentines-night-kindred-by-the-creek/
LOCATION:Kindred by the Creek\, 616 Main St Suite 106\, Caldwell\, ID\, 83607\, United States
CATEGORIES:Activity,Creek
ATTACH;FMTTYPE=image/png:https://kindredvineyards.com/wp-content/uploads/2026/01/Ivory-and-Cream-Elegant-Vintage-Galentines-Day-Instagram-Post-1080-x-1080-px-1.png
END:VEVENT
BEGIN:VEVENT
DTSTART;TZID=America/Denver:20260212T183000
DTEND;TZID=America/Denver:20260212T203000
DTSTAMP:20260425T104006
CREATED:20260121T072844Z
LAST-MODIFIED:20260121T073337Z
UID:10000213-1770921000-1770928200@kindredvineyards.com
SUMMARY:Valentine's Evening at Kindred by the Creek
DESCRIPTION:Looking for the perfect Valentine’s date night? ❤️ \nJoin us at Kindred by the Creek for an evening of seasonal wine flights and romantic\, Sinatra-inspired tunes with Bob Rawleigh. \n📅 Thursday\, February 12 \nWine Lounge Hours are 4-9pm \nHappy hour is from 4-6pm \nMusic is from 6:30-8:30pm \n📍 Caldwell\, ID \nGreat wine\, cozy atmosphere\, and music made for slow sips and closer seats. 🍷🎤
URL:https://kindredvineyards.com/event/valentines-evening-at-kindred-by-the-creek/
LOCATION:Kindred by the Creek\, 616 Main St Suite 106\, Caldwell\, ID\, 83607\, United States
CATEGORIES:Creek,Live Music
END:VEVENT
BEGIN:VEVENT
DTSTART;TZID=America/Denver:20260214T120000
DTEND;TZID=America/Denver:20260214T190000
DTSTAMP:20260425T104006
CREATED:20260121T072846Z
LAST-MODIFIED:20260121T073306Z
UID:10000215-1771070400-1771095600@kindredvineyards.com
SUMMARY:Valentine’s Pairing Experience - Kindred Vineyards
DESCRIPTION:Pairing Experience \nThis tasting includes four pours from our current releases\, each paired with a thoughtful selection of cheese or chocolate. These small bites are designed to enhance notes in each wine. \nThis experience is $25 per guest.With the purchase of four bottles\, the tasting is waived.
URL:https://kindredvineyards.com/event/valentines-pairing-experience-kindred-vineyards/
LOCATION:Kindred Vineyards\, 14251 Frost Road\, Caldwell\, ID\, 83607\, United States
CATEGORIES:Activity,Winery
END:VEVENT
BEGIN:VEVENT
DTSTART;TZID=America/Denver:20260219T183000
DTEND;TZID=America/Denver:20260219T203000
DTSTAMP:20260425T104006
CREATED:20260218T193941Z
LAST-MODIFIED:20260218T193941Z
UID:10000232-1771525800-1771533000@kindredvineyards.com
SUMMARY:Thursdays at the Creek (Background Live Music 6:30–8:30 PM)
DESCRIPTION:Ease into Thursday evening with wine by the creek and soft\, background live music from 6:30–8:30 PM. This is a relaxed\, ambient experience designed to complement your tasting—not interrupt conversation. \nJoin us downtown for an unhurried evening: good wine\, warm light\, and music that settles quietly into the background. \nMusic this week brought to you by Matt Quillicy
URL:https://kindredvineyards.com/event/thursdays-at-the-creek-background-live-music-630-830-pm-2/
LOCATION:Kindred by the Creek\, 616 Main St Suite 106\, Caldwell\, ID\, 83607\, United States
CATEGORIES:Creek,Live Music
END:VEVENT
BEGIN:VEVENT
DTSTART;TZID=America/Denver:20260221T120000
DTEND;TZID=America/Denver:20260221T190000
DTSTAMP:20260425T104006
CREATED:20260209T004128Z
LAST-MODIFIED:20260219T001730Z
UID:10000226-1771675200-1771700400@kindredvineyards.com
SUMMARY:Wood-fired Mac & Cheese
DESCRIPTION:Join us for Wood-Fired Mac & Cheese Weekend at Kindred\, where bold comfort meets thoughtful wine pairing. For this special weekend\, we’re firing three distinct mac and cheese dishes in our wood-fired oven—each designed to complement a specific Kindred wine.\nThe lineup:\nJalapeño Popper Mac – creamy\, smoky\, and just spicy enough– Suggested pairing: Love Letter Syrah Rose\nTruffle Mac – rich\, earthy\, and indulgent– Suggested pairing: Gypsy Soul Bordeaux-Style Blend\nParmesan Garlic Mac – savory\, balanced\, and classic– Suggested pairing: Summer Silhouette Sangiovese\nEach mac is intentionally paired with a Kindred wine to highlight contrast\, texture\, and flavor—because great wine deserves equally great food.\nReservations are highly recommended.
URL:https://kindredvineyards.com/event/wood-fired-mac-cheese/
LOCATION:Kindred Vineyards\, 14251 Frost Road\, Caldwell\, ID\, 83607\, United States
CATEGORIES:Activity,Creek,Winery
ATTACH;FMTTYPE=image/jpeg:https://kindredvineyards.com/wp-content/uploads/2026/02/Wood-Fired.jpg
END:VEVENT
BEGIN:VEVENT
DTSTART;TZID=America/Denver:20260222T120000
DTEND;TZID=America/Denver:20260222T190000
DTSTAMP:20260425T104006
CREATED:20260209T004706Z
LAST-MODIFIED:20260219T001706Z
UID:10000227-1771761600-1771786800@kindredvineyards.com
SUMMARY:Wood-fired Mac & Cheese
DESCRIPTION:Join us for Wood-Fired Mac & Cheese Weekend at Kindred\, where bold comfort meets thoughtful wine pairing. For this special weekend\, we’re firing three distinct mac and cheese dishes in our wood-fired oven—each designed to complement a specific Kindred wine.\nThe lineup:\nJalapeño Popper Mac – creamy\, smoky\, and just spicy enough– Suggested pairing: Love Letter Syrah Rose\nTruffle Mac – rich\, earthy\, and indulgent– Suggested pairing: Gypsy Soul Bordeaux-Style Blend\nParmesan Garlic Mac – savory\, balanced\, and classic– Suggested pairing: Summer Silhouette Sangiovese\nEach mac is intentionally paired with a Kindred wine to highlight contrast\, texture\, and flavor—because great wine deserves equally great food.\nReservations are highly recommended.
URL:https://kindredvineyards.com/event/wood-fired-mac-cheese-2/
LOCATION:Kindred Vineyards\, 14251 Frost Road\, Caldwell\, ID\, 83607\, United States
CATEGORIES:Activity,Creek,Winery
ATTACH;FMTTYPE=image/jpeg:https://kindredvineyards.com/wp-content/uploads/2026/02/Wood-Fired.jpg
END:VEVENT
BEGIN:VEVENT
DTSTART;TZID=America/Denver:20260226T183000
DTEND;TZID=America/Denver:20260226T203000
DTSTAMP:20260425T104006
CREATED:20260219T001619Z
LAST-MODIFIED:20260219T001619Z
UID:10000234-1772130600-1772137800@kindredvineyards.com
SUMMARY:Thursdays at the Creek (Background Live Music 6:30–8:30 PM)
DESCRIPTION:Ease into Thursday evening with wine by the creek and soft\, background live music from 6:30–8:30 PM. This is a relaxed\, ambient experience designed to complement your tasting—not interrupt conversation. \nJoin us downtown for an unhurried evening: good wine\, warm light\, and music that settles quietly into the background. \nMusic this week brought to you by Spencer Batt
URL:https://kindredvineyards.com/event/thursdays-at-the-creek-background-live-music-630-830-pm-4/
LOCATION:Kindred by the Creek\, 616 Main St Suite 106\, Caldwell\, ID\, 83607\, United States
CATEGORIES:Creek,Live Music
END:VEVENT
BEGIN:VEVENT
DTSTART;TZID=America/Denver:20260228T120000
DTEND;TZID=America/Denver:20260228T190000
DTSTAMP:20260425T104006
CREATED:20260209T005432Z
LAST-MODIFIED:20260218T232649Z
UID:10000228-1772280000-1772305200@kindredvineyards.com
SUMMARY:San Francisco Chronicle Award-Winning Tasting
DESCRIPTION:Enjoy a curated tasting of our San Francisco Chronicle Award-Winning wines. This 5 pour tasting showcases our wines recognized for excellence. This curated tasting will be available at both locations. \nAvailable to both club and non-club guests. Club members $15 | Non-club $20.\nTasting fee is waived with the purchase of any bottle.
URL:https://kindredvineyards.com/event/san-francisco-chronicle-award-winning-tasting/
LOCATION:Kindred Vineyards\, 14251 Frost Road\, Caldwell\, ID\, 83607\, United States
CATEGORIES:Activity,Creek,Winery
ATTACH;FMTTYPE=image/jpeg:https://kindredvineyards.com/wp-content/uploads/2026/02/619823425_1458214612974938_8729399714957763748_n.jpg
END:VEVENT
END:VCALENDAR