BEGIN:VCALENDAR
VERSION:2.0
PRODID:-//Kindred Vineyards - ECPv6.15.20//NONSGML v1.0//EN
CALSCALE:GREGORIAN
METHOD:PUBLISH
X-ORIGINAL-URL:https://kindredvineyards.com
X-WR-CALDESC:Events for Kindred Vineyards
REFRESH-INTERVAL;VALUE=DURATION:PT1H
X-Robots-Tag:noindex
X-PUBLISHED-TTL:PT1H
BEGIN:VTIMEZONE
TZID:America/Denver
BEGIN:DAYLIGHT
TZOFFSETFROM:-0700
TZOFFSETTO:-0600
TZNAME:MDT
DTSTART:20250309T090000
END:DAYLIGHT
BEGIN:STANDARD
TZOFFSETFROM:-0600
TZOFFSETTO:-0700
TZNAME:MST
DTSTART:20251102T080000
END:STANDARD
BEGIN:DAYLIGHT
TZOFFSETFROM:-0700
TZOFFSETTO:-0600
TZNAME:MDT
DTSTART:20260308T090000
END:DAYLIGHT
BEGIN:STANDARD
TZOFFSETFROM:-0600
TZOFFSETTO:-0700
TZNAME:MST
DTSTART:20261101T080000
END:STANDARD
BEGIN:DAYLIGHT
TZOFFSETFROM:-0700
TZOFFSETTO:-0600
TZNAME:MDT
DTSTART:20270314T090000
END:DAYLIGHT
BEGIN:STANDARD
TZOFFSETFROM:-0600
TZOFFSETTO:-0700
TZNAME:MST
DTSTART:20271107T080000
END:STANDARD
END:VTIMEZONE
BEGIN:VEVENT
DTSTART;TZID=America/Denver:20260301T120000
DTEND;TZID=America/Denver:20260301T190000
DTSTAMP:20260425T090804
CREATED:20260209T010207Z
LAST-MODIFIED:20260218T232755Z
UID:10000231-1772366400-1772391600@kindredvineyards.com
SUMMARY:San Francisco Chronicle Award-Winning Tasting
DESCRIPTION:Enjoy a curated tasting of our San Francisco Chronicle Award-Winning wines. This 5 pour tasting showcases our wines recognized for excellence. \nAvailable to both club and non-club guests. Club members $15 | Non-club $20.\nTasting fee is waived with the purchase of any bottle.
URL:https://kindredvineyards.com/event/san-francisco-chronicle-award-winning-tasting-2/
LOCATION:Kindred Vineyards\, 14251 Frost Road\, Caldwell\, ID\, 83607\, United States
CATEGORIES:Activity,Creek,Winery
ATTACH;FMTTYPE=image/jpeg:https://kindredvineyards.com/wp-content/uploads/2026/02/619823425_1458214612974938_8729399714957763748_n.jpg
END:VEVENT
BEGIN:VEVENT
DTSTART;TZID=America/Denver:20260312T183000
DTEND;TZID=America/Denver:20260312T203000
DTSTAMP:20260425T090804
CREATED:20260121T072846Z
LAST-MODIFIED:20260121T073238Z
UID:10000216-1773340200-1773347400@kindredvineyards.com
SUMMARY:Thursdays at the Creek (Background Live Music 6:30–8:30 PM)
DESCRIPTION:Ease into Thursday evening with wine by the creek and soft\, background live music from 6:30–8:30 PM. This is a relaxed\, ambient experience designed to complement your tasting—not interrupt conversation. \nJoin us downtown for an unhurried evening: good wine\, warm light\, and music that settles quietly into the background. \nMusic this week brought to you by Hip.Sounds
URL:https://kindredvineyards.com/event/thursdays-at-the-creek-background-live-music-630-830-pm/
LOCATION:Kindred by the Creek\, 616 Main St Suite 106\, Caldwell\, ID\, 83607\, United States
CATEGORIES:Creek,Live Music
END:VEVENT
BEGIN:VEVENT
DTSTART;TZID=America/Denver:20260326T183000
DTEND;TZID=America/Denver:20260326T203000
DTSTAMP:20260425T090804
CREATED:20260218T235945Z
LAST-MODIFIED:20260218T235945Z
UID:10000233-1774549800-1774557000@kindredvineyards.com
SUMMARY:Thursdays at the Creek (Background Live Music 6:30–8:30 PM)
DESCRIPTION:Ease into Thursday evening with wine by the creek and soft\, background live music from 6:30–8:30 PM. This is a relaxed\, ambient experience designed to complement your tasting—not interrupt conversation. \nJoin us downtown for an unhurried evening: good wine\, warm light\, and music that settles quietly into the background. \nMusic this week brought to you by Spencer Batt
URL:https://kindredvineyards.com/event/thursdays-at-the-creek-background-live-music-630-830-pm-3/
LOCATION:Kindred by the Creek\, 616 Main St Suite 106\, Caldwell\, ID\, 83607\, United States
CATEGORIES:Creek,Live Music
ATTACH;FMTTYPE=image/png:https://kindredvineyards.com/wp-content/uploads/2026/02/THURSDAYS-1080-x-1080-px-11-x-17-in-11-x-17-in-Instagram-Post-45-scaled.png
END:VEVENT
BEGIN:VEVENT
DTSTART;TZID=America/Denver:20260331T183000
DTEND;TZID=America/Denver:20260331T203000
DTSTAMP:20260425T090804
CREATED:20260328T224450Z
LAST-MODIFIED:20260328T224612Z
UID:10000235-1774981800-1774989000@kindredvineyards.com
SUMMARY:Worship Night with Good Time Charlie
DESCRIPTION:Join us for worship night with Good Time Charlie beginning at 6:30pm.
URL:https://kindredvineyards.com/event/thursdays-at-the-creek-background-live-music-630-830-pm-5/
LOCATION:Kindred by the Creek\, 616 Main St Suite 106\, Caldwell\, ID\, 83607\, United States
CATEGORIES:Creek,Live Music
END:VEVENT
END:VCALENDAR