BEGIN:VCALENDAR
VERSION:2.0
PRODID:-//Kindred Vineyards - ECPv6.15.20//NONSGML v1.0//EN
CALSCALE:GREGORIAN
METHOD:PUBLISH
X-WR-CALNAME:Kindred Vineyards
X-ORIGINAL-URL:https://kindredvineyards.com
X-WR-CALDESC:Events for Kindred Vineyards
REFRESH-INTERVAL;VALUE=DURATION:PT1H
X-Robots-Tag:noindex
X-PUBLISHED-TTL:PT1H
BEGIN:VTIMEZONE
TZID:America/Denver
BEGIN:DAYLIGHT
TZOFFSETFROM:-0700
TZOFFSETTO:-0600
TZNAME:MDT
DTSTART:20250309T090000
END:DAYLIGHT
BEGIN:STANDARD
TZOFFSETFROM:-0600
TZOFFSETTO:-0700
TZNAME:MST
DTSTART:20251102T080000
END:STANDARD
BEGIN:DAYLIGHT
TZOFFSETFROM:-0700
TZOFFSETTO:-0600
TZNAME:MDT
DTSTART:20260308T090000
END:DAYLIGHT
BEGIN:STANDARD
TZOFFSETFROM:-0600
TZOFFSETTO:-0700
TZNAME:MST
DTSTART:20261101T080000
END:STANDARD
BEGIN:DAYLIGHT
TZOFFSETFROM:-0700
TZOFFSETTO:-0600
TZNAME:MDT
DTSTART:20270314T090000
END:DAYLIGHT
BEGIN:STANDARD
TZOFFSETFROM:-0600
TZOFFSETTO:-0700
TZNAME:MST
DTSTART:20271107T080000
END:STANDARD
END:VTIMEZONE
BEGIN:VEVENT
DTSTART;TZID=America/Denver:20260702T183000
DTEND;TZID=America/Denver:20260702T203000
DTSTAMP:20260425T184317
CREATED:20260328T232012Z
LAST-MODIFIED:20260328T232012Z
UID:10000247-1783017000-1783024200@kindredvineyards.com
SUMMARY:Thursdays at the Creek (Background Live Music 6:30–8:30 PM)
DESCRIPTION:Ease into Thursday evening with wine by the creek and soft\, background live music from 6:30–8:30 PM. This is a relaxed\, ambient experience designed to complement your wine tasting experience. \nJoin us downtown for an unhurried evening: good wine\, warm light\, and music that settles quietly into the background. \nMusic this week brought to you by Leta Harris
URL:https://kindredvineyards.com/event/thursdays-at-the-creek-background-live-music-630-830-pm-17/
LOCATION:Kindred by the Creek\, 616 Main St Suite 106\, Caldwell\, ID\, 83607\, United States
CATEGORIES:Creek,Live Music
ATTACH;FMTTYPE=image/png:https://kindredvineyards.com/wp-content/uploads/2026/02/THURSDAYS-1080-x-1080-px-11-x-17-in-11-x-17-in-Instagram-Post-45-scaled.png
END:VEVENT
BEGIN:VEVENT
DTSTART;TZID=America/Denver:20260709T183000
DTEND;TZID=America/Denver:20260709T203000
DTSTAMP:20260425T184317
CREATED:20260328T232140Z
LAST-MODIFIED:20260328T232140Z
UID:10000248-1783621800-1783629000@kindredvineyards.com
SUMMARY:Thursdays at the Creek (Background Live Music 6:30–8:30 PM)
DESCRIPTION:Ease into Thursday evening with wine by the creek and soft\, background live music from 6:30–8:30 PM. This is a relaxed\, ambient experience designed to complement your wine tasting experience. \nJoin us downtown for an unhurried evening: good wine\, warm light\, and music that settles quietly into the background. \nMusic this week brought to you by Bob Rawleigh
URL:https://kindredvineyards.com/event/thursdays-at-the-creek-background-live-music-630-830-pm-18/
LOCATION:Kindred by the Creek\, 616 Main St Suite 106\, Caldwell\, ID\, 83607\, United States
CATEGORIES:Creek,Live Music
ATTACH;FMTTYPE=image/png:https://kindredvineyards.com/wp-content/uploads/2026/02/THURSDAYS-1080-x-1080-px-11-x-17-in-11-x-17-in-Instagram-Post-45-scaled.png
END:VEVENT
BEGIN:VEVENT
DTSTART;TZID=America/Denver:20260710T180000
DTEND;TZID=America/Denver:20260710T210000
DTSTAMP:20260425T184317
CREATED:20260409T155236Z
LAST-MODIFIED:20260409T155236Z
UID:10000268-1783706400-1783717200@kindredvineyards.com
SUMMARY:Sunset Music Series: Cavalier @ Kindred Vineyards 21+
DESCRIPTION:Sunset Music Series – at Kindred Vineyards 21+6:00–9:00 PM \nJoin us as for our annual Sunset Music Series—an unforgettable evening of live music\, Kindred wines\, woodfired pizza\, and golden hour views from the winery. \nEvent Details: \n\n\nLive music from 6pm to 9pm\, featuring a new local artist each week \n\n\n$10 cover charge (waived with the purchase of a bottle or free for Wine Club members) \n\n\nWoodfired pizza available until 8:30pm \n\n\nRelax\, unwind\, and enjoy the sunset after hours \n\n\nPlease note: wine tasting will not be available during this event. Wine is available by the glass or bottle only. \nCome for the music\, stay for the wine\, and toast to the start of summer with us. \nThis event is for 21+ only.
URL:https://kindredvineyards.com/event/sunset-music-series-cavalier-kindred-vineyards-21-2/
LOCATION:Kindred Vineyards\, 14251 Frost Road\, Caldwell\, ID\, 83607\, United States
CATEGORIES:Winery
ATTACH;FMTTYPE=image/png:https://kindredvineyards.com/wp-content/uploads/2026/04/Sunset-Music-series-3-e1775706412458.png
END:VEVENT
BEGIN:VEVENT
DTSTART;TZID=America/Denver:20260716T183000
DTEND;TZID=America/Denver:20260716T203000
DTSTAMP:20260425T184317
CREATED:20260328T232204Z
LAST-MODIFIED:20260328T232204Z
UID:10000249-1784226600-1784233800@kindredvineyards.com
SUMMARY:Thursdays at the Creek (Background Live Music 6:30–8:30 PM)
DESCRIPTION:Ease into Thursday evening with wine by the creek and soft\, background live music from 6:30–8:30 PM. This is a relaxed\, ambient experience designed to complement your wine tasting experience. \nJoin us downtown for an unhurried evening: good wine\, warm light\, and music that settles quietly into the background. \nMusic this week brought to you by Double Down
URL:https://kindredvineyards.com/event/thursdays-at-the-creek-background-live-music-630-830-pm-19/
LOCATION:Kindred by the Creek\, 616 Main St Suite 106\, Caldwell\, ID\, 83607\, United States
CATEGORIES:Creek,Live Music
ATTACH;FMTTYPE=image/png:https://kindredvineyards.com/wp-content/uploads/2026/02/THURSDAYS-1080-x-1080-px-11-x-17-in-11-x-17-in-Instagram-Post-45-scaled.png
END:VEVENT
BEGIN:VEVENT
DTSTART;TZID=America/Denver:20260717T180000
DTEND;TZID=America/Denver:20260717T210000
DTSTAMP:20260425T184317
CREATED:20260409T155318Z
LAST-MODIFIED:20260409T155318Z
UID:10000269-1784311200-1784322000@kindredvineyards.com
SUMMARY:Sunset Music Series: Hip.Sounds @ Kindred Vineyards 21+
DESCRIPTION:Sunset Music Series – at Kindred Vineyards 21+6:00–9:00 PM \nJoin us as for our annual Sunset Music Series—an unforgettable evening of live music\, Kindred wines\, woodfired pizza\, and golden hour views from the winery. \nEvent Details: \n\n\nLive music from 6pm to 9pm\, featuring a new local artist each week \n\n\n$10 cover charge (waived with the purchase of a bottle or free for Wine Club members) \n\n\nWoodfired pizza available until 8:30pm \n\n\nRelax\, unwind\, and enjoy the sunset after hours \n\n\nPlease note: wine tasting will not be available during this event. Wine is available by the glass or bottle only. \nCome for the music\, stay for the wine\, and toast to the start of summer with us. \nThis event is for 21+ only.
URL:https://kindredvineyards.com/event/sunset-music-series-hip-sounds-kindred-vineyards-21-4/
LOCATION:Kindred Vineyards\, 14251 Frost Road\, Caldwell\, ID\, 83607\, United States
CATEGORIES:Winery
ATTACH;FMTTYPE=image/png:https://kindredvineyards.com/wp-content/uploads/2026/04/Sunset-Music-series-3-e1775706412458.png
END:VEVENT
BEGIN:VEVENT
DTSTART;TZID=America/Denver:20260723T183000
DTEND;TZID=America/Denver:20260723T203000
DTSTAMP:20260425T184317
CREATED:20260328T232256Z
LAST-MODIFIED:20260328T232256Z
UID:10000250-1784831400-1784838600@kindredvineyards.com
SUMMARY:Thursdays at the Creek (Background Live Music 6:30–8:30 PM)
DESCRIPTION:Ease into Thursday evening with wine by the creek and soft\, background live music from 6:30–8:30 PM. This is a relaxed\, ambient experience designed to complement your wine tasting experience. \nJoin us downtown for an unhurried evening: good wine\, warm light\, and music that settles quietly into the background. \nMusic this week brought to you by Hip.Sounds
URL:https://kindredvineyards.com/event/thursdays-at-the-creek-background-live-music-630-830-pm-20/
LOCATION:Kindred by the Creek\, 616 Main St Suite 106\, Caldwell\, ID\, 83607\, United States
CATEGORIES:Creek,Live Music
ATTACH;FMTTYPE=image/png:https://kindredvineyards.com/wp-content/uploads/2026/02/THURSDAYS-1080-x-1080-px-11-x-17-in-11-x-17-in-Instagram-Post-45-scaled.png
END:VEVENT
BEGIN:VEVENT
DTSTART;TZID=America/Denver:20260724T180000
DTEND;TZID=America/Denver:20260724T210000
DTSTAMP:20260425T184317
CREATED:20260409T155351Z
LAST-MODIFIED:20260409T155351Z
UID:10000270-1784916000-1784926800@kindredvineyards.com
SUMMARY:Sunset Music Series: Rochelle and the James Gang @ Kindred Vineyards 21+
DESCRIPTION:Sunset Music Series – at Kindred Vineyards 21+6:00–9:00 PM \nJoin us as for our annual Sunset Music Series—an unforgettable evening of live music\, Kindred wines\, woodfired pizza\, and golden hour views from the winery. \nEvent Details: \n\n\nLive music from 6pm to 9pm\, featuring a new local artist each week \n\n\n$10 cover charge (waived with the purchase of a bottle or free for Wine Club members) \n\n\nWoodfired pizza available until 8:30pm \n\n\nRelax\, unwind\, and enjoy the sunset after hours \n\n\nPlease note: wine tasting will not be available during this event. Wine is available by the glass or bottle only. \nCome for the music\, stay for the wine\, and toast to the start of summer with us. \nThis event is for 21+ only.
URL:https://kindredvineyards.com/event/sunset-music-series-rochelle-and-the-james-gang-kindred-vineyards-21-6/
LOCATION:Kindred Vineyards\, 14251 Frost Road\, Caldwell\, ID\, 83607\, United States
CATEGORIES:Winery
ATTACH;FMTTYPE=image/png:https://kindredvineyards.com/wp-content/uploads/2026/04/Sunset-Music-series-3-e1775706412458.png
END:VEVENT
END:VCALENDAR