BEGIN:VCALENDAR
VERSION:2.0
PRODID:-//Kindred Vineyards - ECPv6.15.20//NONSGML v1.0//EN
CALSCALE:GREGORIAN
METHOD:PUBLISH
X-ORIGINAL-URL:https://kindredvineyards.com
X-WR-CALDESC:Events for Kindred Vineyards
REFRESH-INTERVAL;VALUE=DURATION:PT1H
X-Robots-Tag:noindex
X-PUBLISHED-TTL:PT1H
BEGIN:VTIMEZONE
TZID:America/Denver
BEGIN:DAYLIGHT
TZOFFSETFROM:-0700
TZOFFSETTO:-0600
TZNAME:MDT
DTSTART:20250309T090000
END:DAYLIGHT
BEGIN:STANDARD
TZOFFSETFROM:-0600
TZOFFSETTO:-0700
TZNAME:MST
DTSTART:20251102T080000
END:STANDARD
BEGIN:DAYLIGHT
TZOFFSETFROM:-0700
TZOFFSETTO:-0600
TZNAME:MDT
DTSTART:20260308T090000
END:DAYLIGHT
BEGIN:STANDARD
TZOFFSETFROM:-0600
TZOFFSETTO:-0700
TZNAME:MST
DTSTART:20261101T080000
END:STANDARD
BEGIN:DAYLIGHT
TZOFFSETFROM:-0700
TZOFFSETTO:-0600
TZNAME:MDT
DTSTART:20270314T090000
END:DAYLIGHT
BEGIN:STANDARD
TZOFFSETFROM:-0600
TZOFFSETTO:-0700
TZNAME:MST
DTSTART:20271107T080000
END:STANDARD
END:VTIMEZONE
BEGIN:VEVENT
DTSTART;TZID=America/Denver:20260724T180000
DTEND;TZID=America/Denver:20260724T210000
DTSTAMP:20260425T092510
CREATED:20260409T155351Z
LAST-MODIFIED:20260409T155351Z
UID:10000270-1784916000-1784926800@kindredvineyards.com
SUMMARY:Sunset Music Series: Rochelle and the James Gang @ Kindred Vineyards 21+
DESCRIPTION:Sunset Music Series – at Kindred Vineyards 21+6:00–9:00 PM \nJoin us as for our annual Sunset Music Series—an unforgettable evening of live music\, Kindred wines\, woodfired pizza\, and golden hour views from the winery. \nEvent Details: \n\n\nLive music from 6pm to 9pm\, featuring a new local artist each week \n\n\n$10 cover charge (waived with the purchase of a bottle or free for Wine Club members) \n\n\nWoodfired pizza available until 8:30pm \n\n\nRelax\, unwind\, and enjoy the sunset after hours \n\n\nPlease note: wine tasting will not be available during this event. Wine is available by the glass or bottle only. \nCome for the music\, stay for the wine\, and toast to the start of summer with us. \nThis event is for 21+ only.
URL:https://kindredvineyards.com/event/sunset-music-series-rochelle-and-the-james-gang-kindred-vineyards-21-6/
LOCATION:Kindred Vineyards\, 14251 Frost Road\, Caldwell\, ID\, 83607\, United States
CATEGORIES:Winery
ATTACH;FMTTYPE=image/png:https://kindredvineyards.com/wp-content/uploads/2026/04/Sunset-Music-series-3-e1775706412458.png
END:VEVENT
BEGIN:VEVENT
DTSTART;TZID=America/Denver:20260807T180000
DTEND;TZID=America/Denver:20260807T210000
DTSTAMP:20260425T092510
CREATED:20260409T155424Z
LAST-MODIFIED:20260409T155424Z
UID:10000271-1786125600-1786136400@kindredvineyards.com
SUMMARY:Sunset Music Series: Dustin Morris @ Kindred Vineyards 21+
DESCRIPTION:Sunset Music Series – at Kindred Vineyards 21+6:00–9:00 PM \nJoin us as for our annual Sunset Music Series—an unforgettable evening of live music\, Kindred wines\, woodfired pizza\, and golden hour views from the winery. \nEvent Details: \n\n\nLive music from 6pm to 9pm\, featuring a new local artist each week \n\n\n$10 cover charge (waived with the purchase of a bottle or free for Wine Club members) \n\n\nWoodfired pizza available until 8:30pm \n\n\nRelax\, unwind\, and enjoy the sunset after hours \n\n\nPlease note: wine tasting will not be available during this event. Wine is available by the glass or bottle only. \nCome for the music\, stay for the wine\, and toast to the start of summer with us. \nThis event is for 21+ only.
URL:https://kindredvineyards.com/event/sunset-music-series-dustin-morris-kindred-vineyards-21/
LOCATION:Kindred Vineyards\, 14251 Frost Road\, Caldwell\, ID\, 83607\, United States
CATEGORIES:Winery
ATTACH;FMTTYPE=image/png:https://kindredvineyards.com/wp-content/uploads/2026/04/Sunset-Music-series-3-e1775706412458.png
END:VEVENT
BEGIN:VEVENT
DTSTART;TZID=America/Denver:20260814T180000
DTEND;TZID=America/Denver:20260814T210000
DTSTAMP:20260425T092510
CREATED:20260409T155458Z
LAST-MODIFIED:20260409T155458Z
UID:10000272-1786730400-1786741200@kindredvineyards.com
SUMMARY:Sunset Music Series: Hip.Sounds @ Kindred Vineyards 21+
DESCRIPTION:Sunset Music Series – at Kindred Vineyards 21+6:00–9:00 PM \nJoin us as for our annual Sunset Music Series—an unforgettable evening of live music\, Kindred wines\, woodfired pizza\, and golden hour views from the winery. \nEvent Details: \n\n\nLive music from 6pm to 9pm\, featuring a new local artist each week \n\n\n$10 cover charge (waived with the purchase of a bottle or free for Wine Club members) \n\n\nWoodfired pizza available until 8:30pm \n\n\nRelax\, unwind\, and enjoy the sunset after hours \n\n\nPlease note: wine tasting will not be available during this event. Wine is available by the glass or bottle only. \nCome for the music\, stay for the wine\, and toast to the start of summer with us. \nThis event is for 21+ only.
URL:https://kindredvineyards.com/event/sunset-music-series-hip-sounds-kindred-vineyards-21-5/
LOCATION:Kindred Vineyards\, 14251 Frost Road\, Caldwell\, ID\, 83607\, United States
CATEGORIES:Winery
ATTACH;FMTTYPE=image/png:https://kindredvineyards.com/wp-content/uploads/2026/04/Sunset-Music-series-3-e1775706412458.png
END:VEVENT
BEGIN:VEVENT
DTSTART;TZID=America/Denver:20260820T183000
DTEND;TZID=America/Denver:20260820T203000
DTSTAMP:20260425T092510
CREATED:20260328T232338Z
LAST-MODIFIED:20260328T232402Z
UID:10000251-1787250600-1787257800@kindredvineyards.com
SUMMARY:Thursdays at the Creek (Background Live Music 6:30–8:30 PM)
DESCRIPTION:Ease into Thursday evening with wine by the creek and soft\, background live music from 6:30–8:30 PM. This is a relaxed\, ambient experience designed to complement your wine tasting experience. \nJoin us downtown for an unhurried evening: good wine\, warm light\, and music that settles quietly into the background. \nMusic this week brought to you by Bob Rawleigh
URL:https://kindredvineyards.com/event/thursdays-at-the-creek-background-live-music-630-830-pm-21/
LOCATION:Kindred by the Creek\, 616 Main St Suite 106\, Caldwell\, ID\, 83607\, United States
CATEGORIES:Creek,Live Music
ATTACH;FMTTYPE=image/png:https://kindredvineyards.com/wp-content/uploads/2026/02/THURSDAYS-1080-x-1080-px-11-x-17-in-11-x-17-in-Instagram-Post-45-scaled.png
END:VEVENT
BEGIN:VEVENT
DTSTART;TZID=America/Denver:20260821T180000
DTEND;TZID=America/Denver:20260821T210000
DTSTAMP:20260425T092510
CREATED:20260409T155547Z
LAST-MODIFIED:20260409T155547Z
UID:10000273-1787335200-1787346000@kindredvineyards.com
SUMMARY:Sunset Music Series: Rochelle and the James Gang @ Kindred Vineyards 21+
DESCRIPTION:Sunset Music Series – at Kindred Vineyards 21+6:00–9:00 PM \nJoin us as for our annual Sunset Music Series—an unforgettable evening of live music\, Kindred wines\, woodfired pizza\, and golden hour views from the winery. \nEvent Details: \n\n\nLive music from 6pm to 9pm\, featuring a new local artist each week \n\n\n$10 cover charge (waived with the purchase of a bottle or free for Wine Club members) \n\n\nWoodfired pizza available until 8:30pm \n\n\nRelax\, unwind\, and enjoy the sunset after hours \n\n\nPlease note: wine tasting will not be available during this event. Wine is available by the glass or bottle only. \nCome for the music\, stay for the wine\, and toast to the start of summer with us. \nThis event is for 21+ only.
URL:https://kindredvineyards.com/event/sunset-music-series-rochelle-and-the-james-gang-kindred-vineyards-21-7/
LOCATION:Kindred Vineyards\, 14251 Frost Road\, Caldwell\, ID\, 83607\, United States
CATEGORIES:Winery
ATTACH;FMTTYPE=image/png:https://kindredvineyards.com/wp-content/uploads/2026/04/Sunset-Music-series-3-e1775706412458.png
END:VEVENT
BEGIN:VEVENT
DTSTART;TZID=America/Denver:20260827T183000
DTEND;TZID=America/Denver:20260827T203000
DTSTAMP:20260425T092510
CREATED:20260328T232447Z
LAST-MODIFIED:20260328T232447Z
UID:10000252-1787855400-1787862600@kindredvineyards.com
SUMMARY:Thursdays at the Creek (Background Live Music 6:30–8:30 PM)
DESCRIPTION:Ease into Thursday evening with wine by the creek and soft\, background live music from 6:30–8:30 PM. This is a relaxed\, ambient experience designed to complement your wine tasting experience. \nJoin us downtown for an unhurried evening: good wine\, warm light\, and music that settles quietly into the background. \nMusic this week brought to you by Kimberly Whittaker
URL:https://kindredvineyards.com/event/thursdays-at-the-creek-background-live-music-630-830-pm-22/
LOCATION:Kindred by the Creek\, 616 Main St Suite 106\, Caldwell\, ID\, 83607\, United States
CATEGORIES:Creek,Live Music
ATTACH;FMTTYPE=image/png:https://kindredvineyards.com/wp-content/uploads/2026/02/THURSDAYS-1080-x-1080-px-11-x-17-in-11-x-17-in-Instagram-Post-45-scaled.png
END:VEVENT
BEGIN:VEVENT
DTSTART;TZID=America/Denver:20260828T180000
DTEND;TZID=America/Denver:20260828T210000
DTSTAMP:20260425T092510
CREATED:20260409T155618Z
LAST-MODIFIED:20260409T155618Z
UID:10000274-1787940000-1787950800@kindredvineyards.com
SUMMARY:Sunset Music Series: Good Time Charlie @ Kindred Vineyards 21+
DESCRIPTION:Sunset Music Series – at Kindred Vineyards 21+6:00–9:00 PM \nJoin us as for our annual Sunset Music Series—an unforgettable evening of live music\, Kindred wines\, woodfired pizza\, and golden hour views from the winery. \nEvent Details: \n\n\nLive music from 6pm to 9pm\, featuring a new local artist each week \n\n\n$10 cover charge (waived with the purchase of a bottle or free for Wine Club members) \n\n\nWoodfired pizza available until 8:30pm \n\n\nRelax\, unwind\, and enjoy the sunset after hours \n\n\nPlease note: wine tasting will not be available during this event. Wine is available by the glass or bottle only. \nCome for the music\, stay for the wine\, and toast to the start of summer with us. \nThis event is for 21+ only.
URL:https://kindredvineyards.com/event/sunset-music-series-good-time-charlie-kindred-vineyards-21-2/
LOCATION:Kindred Vineyards\, 14251 Frost Road\, Caldwell\, ID\, 83607\, United States
CATEGORIES:Winery
ATTACH;FMTTYPE=image/png:https://kindredvineyards.com/wp-content/uploads/2026/04/Sunset-Music-series-3-e1775706412458.png
END:VEVENT
BEGIN:VEVENT
DTSTART;TZID=America/Denver:20260903T183000
DTEND;TZID=America/Denver:20260903T203000
DTSTAMP:20260425T092510
CREATED:20260328T232515Z
LAST-MODIFIED:20260328T232515Z
UID:10000253-1788460200-1788467400@kindredvineyards.com
SUMMARY:Thursdays at the Creek (Background Live Music 6:30–8:30 PM)
DESCRIPTION:Ease into Thursday evening with wine by the creek and soft\, background live music from 6:30–8:30 PM. This is a relaxed\, ambient experience designed to complement your wine tasting experience. \nJoin us downtown for an unhurried evening: good wine\, warm light\, and music that settles quietly into the background. \nMusic this week brought to you by Scott Knickerbocker
URL:https://kindredvineyards.com/event/thursdays-at-the-creek-background-live-music-630-830-pm-23/
LOCATION:Kindred by the Creek\, 616 Main St Suite 106\, Caldwell\, ID\, 83607\, United States
CATEGORIES:Creek,Live Music
ATTACH;FMTTYPE=image/png:https://kindredvineyards.com/wp-content/uploads/2026/02/THURSDAYS-1080-x-1080-px-11-x-17-in-11-x-17-in-Instagram-Post-45-scaled.png
END:VEVENT
BEGIN:VEVENT
DTSTART;TZID=America/Denver:20260904T180000
DTEND;TZID=America/Denver:20260904T210000
DTSTAMP:20260425T092510
CREATED:20260409T155752Z
LAST-MODIFIED:20260409T155752Z
UID:10000275-1788544800-1788555600@kindredvineyards.com
SUMMARY:Sunset Music Series: Andrew Chappell @ Kindred Vineyards 21+
DESCRIPTION:Sunset Music Series – at Kindred Vineyards 21+6:00–9:00 PM \nJoin us as for our annual Sunset Music Series—an unforgettable evening of live music\, Kindred wines\, woodfired pizza\, and golden hour views from the winery. \nEvent Details: \n\n\nLive music from 6pm to 9pm\, featuring a new local artist each week \n\n\n$10 cover charge (waived with the purchase of a bottle or free for Wine Club members) \n\n\nWoodfired pizza available until 8:30pm \n\n\nRelax\, unwind\, and enjoy the sunset after hours \n\n\nPlease note: wine tasting will not be available during this event. Wine is available by the glass or bottle only. \nCome for the music\, stay for the wine\, and toast to the start of summer with us. \nThis event is for 21+ only.
URL:https://kindredvineyards.com/event/sunset-music-series-andrew-chappell-kindred-vineyards-21/
LOCATION:Kindred Vineyards\, 14251 Frost Road\, Caldwell\, ID\, 83607\, United States
CATEGORIES:Winery
ATTACH;FMTTYPE=image/png:https://kindredvineyards.com/wp-content/uploads/2026/04/Sunset-Music-series-3-e1775706412458.png
END:VEVENT
BEGIN:VEVENT
DTSTART;TZID=America/Denver:20260910T183000
DTEND;TZID=America/Denver:20260910T203000
DTSTAMP:20260425T092510
CREATED:20260328T232602Z
LAST-MODIFIED:20260328T232602Z
UID:10000254-1789065000-1789072200@kindredvineyards.com
SUMMARY:Thursdays at the Creek (Background Live Music 6:30–8:30 PM)
DESCRIPTION:Ease into Thursday evening with wine by the creek and soft\, background live music from 6:30–8:30 PM. This is a relaxed\, ambient experience designed to complement your wine tasting experience. \nJoin us downtown for an unhurried evening: good wine\, warm light\, and music that settles quietly into the background. \nMusic this week brought to you by Double Down
URL:https://kindredvineyards.com/event/thursdays-at-the-creek-background-live-music-630-830-pm-24/
LOCATION:Kindred by the Creek\, 616 Main St Suite 106\, Caldwell\, ID\, 83607\, United States
CATEGORIES:Creek,Live Music
ATTACH;FMTTYPE=image/png:https://kindredvineyards.com/wp-content/uploads/2026/02/THURSDAYS-1080-x-1080-px-11-x-17-in-11-x-17-in-Instagram-Post-45-scaled.png
END:VEVENT
BEGIN:VEVENT
DTSTART;TZID=America/Denver:20260917T183000
DTEND;TZID=America/Denver:20260917T203000
DTSTAMP:20260425T092510
CREATED:20260328T232636Z
LAST-MODIFIED:20260328T232636Z
UID:10000255-1789669800-1789677000@kindredvineyards.com
SUMMARY:Thursdays at the Creek (Background Live Music 6:30–8:30 PM)
DESCRIPTION:Ease into Thursday evening with wine by the creek and soft\, background live music from 6:30–8:30 PM. This is a relaxed\, ambient experience designed to complement your wine tasting experience. \nJoin us downtown for an unhurried evening: good wine\, warm light\, and music that settles quietly into the background. \nMusic this week brought to you by Hip.Sounds
URL:https://kindredvineyards.com/event/thursdays-at-the-creek-background-live-music-630-830-pm-25/
LOCATION:Kindred by the Creek\, 616 Main St Suite 106\, Caldwell\, ID\, 83607\, United States
CATEGORIES:Creek,Live Music
ATTACH;FMTTYPE=image/png:https://kindredvineyards.com/wp-content/uploads/2026/02/THURSDAYS-1080-x-1080-px-11-x-17-in-11-x-17-in-Instagram-Post-45-scaled.png
END:VEVENT
BEGIN:VEVENT
DTSTART;TZID=America/Denver:20260918T180000
DTEND;TZID=America/Denver:20260918T210000
DTSTAMP:20260425T092510
CREATED:20260409T155824Z
LAST-MODIFIED:20260409T155824Z
UID:10000276-1789754400-1789765200@kindredvineyards.com
SUMMARY:Sunset Music Series: Jordan Shaw @ Kindred Vineyards 21+
DESCRIPTION:Sunset Music Series – at Kindred Vineyards 21+6:00–9:00 PM \nJoin us as for our annual Sunset Music Series—an unforgettable evening of live music\, Kindred wines\, woodfired pizza\, and golden hour views from the winery. \nEvent Details: \n\n\nLive music from 6pm to 9pm\, featuring a new local artist each week \n\n\n$10 cover charge (waived with the purchase of a bottle or free for Wine Club members) \n\n\nWoodfired pizza available until 8:30pm \n\n\nRelax\, unwind\, and enjoy the sunset after hours \n\n\nPlease note: wine tasting will not be available during this event. Wine is available by the glass or bottle only. \nCome for the music\, stay for the wine\, and toast to the start of summer with us. \nThis event is for 21+ only.
URL:https://kindredvineyards.com/event/sunset-music-series-jordan-shaw-kindred-vineyards-21-2/
LOCATION:Kindred Vineyards\, 14251 Frost Road\, Caldwell\, ID\, 83607\, United States
CATEGORIES:Winery
ATTACH;FMTTYPE=image/png:https://kindredvineyards.com/wp-content/uploads/2026/04/Sunset-Music-series-3-e1775706412458.png
END:VEVENT
BEGIN:VEVENT
DTSTART;TZID=America/Denver:20260925T180000
DTEND;TZID=America/Denver:20260925T210000
DTSTAMP:20260425T092510
CREATED:20260409T155913Z
LAST-MODIFIED:20260409T155913Z
UID:10000277-1790359200-1790370000@kindredvineyards.com
SUMMARY:Sunset Music Series: Rochelle and the James Gang @ Kindred Vineyards 21+
DESCRIPTION:Sunset Music Series – at Kindred Vineyards 21+6:00–9:00 PM \nJoin us as for our annual Sunset Music Series—an unforgettable evening of live music\, Kindred wines\, woodfired pizza\, and golden hour views from the winery. \nEvent Details: \n\n\nLive music from 6pm to 9pm\, featuring a new local artist each week \n\n\n$10 cover charge (waived with the purchase of a bottle or free for Wine Club members) \n\n\nWoodfired pizza available until 8:30pm \n\n\nRelax\, unwind\, and enjoy the sunset after hours \n\n\nPlease note: wine tasting will not be available during this event. Wine is available by the glass or bottle only. \nCome for the music\, stay for the wine\, and toast to the start of summer with us. \nThis event is for 21+ only.
URL:https://kindredvineyards.com/event/sunset-music-series-rochelle-and-the-james-gang-kindred-vineyards-21-8/
LOCATION:Kindred Vineyards\, 14251 Frost Road\, Caldwell\, ID\, 83607\, United States
CATEGORIES:Winery
ATTACH;FMTTYPE=image/png:https://kindredvineyards.com/wp-content/uploads/2026/04/Sunset-Music-series-3-e1775706412458.png
END:VEVENT
BEGIN:VEVENT
DTSTART;TZID=America/Denver:20261002T180000
DTEND;TZID=America/Denver:20261002T210000
DTSTAMP:20260425T092510
CREATED:20260409T155943Z
LAST-MODIFIED:20260409T155943Z
UID:10000278-1790964000-1790974800@kindredvineyards.com
SUMMARY:Sunset Music Series: Andy Crosby @ Kindred Vineyards 21+
DESCRIPTION:Sunset Music Series – at Kindred Vineyards 21+6:00–9:00 PM \nJoin us as for our annual Sunset Music Series—an unforgettable evening of live music\, Kindred wines\, woodfired pizza\, and golden hour views from the winery. \nEvent Details: \n\n\nLive music from 6pm to 9pm\, featuring a new local artist each week \n\n\n$10 cover charge (waived with the purchase of a bottle or free for Wine Club members) \n\n\nWoodfired pizza available until 8:30pm \n\n\nRelax\, unwind\, and enjoy the sunset after hours \n\n\nPlease note: wine tasting will not be available during this event. Wine is available by the glass or bottle only. \nCome for the music\, stay for the wine\, and toast to the start of summer with us. \nThis event is for 21+ only.
URL:https://kindredvineyards.com/event/sunset-music-series-andy-crosby-kindred-vineyards-21-2/
LOCATION:Kindred Vineyards\, 14251 Frost Road\, Caldwell\, ID\, 83607\, United States
CATEGORIES:Winery
ATTACH;FMTTYPE=image/png:https://kindredvineyards.com/wp-content/uploads/2026/04/Sunset-Music-series-3-e1775706412458.png
END:VEVENT
BEGIN:VEVENT
DTSTART;TZID=America/Denver:20261009T180000
DTEND;TZID=America/Denver:20261009T210000
DTSTAMP:20260425T092510
CREATED:20260409T160020Z
LAST-MODIFIED:20260409T160020Z
UID:10000279-1791568800-1791579600@kindredvineyards.com
SUMMARY:Sunset Music Series: Andrew Chappell @ Kindred Vineyards 21+
DESCRIPTION:Sunset Music Series – at Kindred Vineyards 21+6:00–9:00 PM \nJoin us as for our annual Sunset Music Series—an unforgettable evening of live music\, Kindred wines\, woodfired pizza\, and golden hour views from the winery. \nEvent Details: \n\n\nLive music from 6pm to 9pm\, featuring a new local artist each week \n\n\n$10 cover charge (waived with the purchase of a bottle or free for Wine Club members) \n\n\nWoodfired pizza available until 8:30pm \n\n\nRelax\, unwind\, and enjoy the sunset after hours \n\n\nPlease note: wine tasting will not be available during this event. Wine is available by the glass or bottle only. \nCome for the music\, stay for the wine\, and toast to the start of summer with us. \nThis event is for 21+ only.
URL:https://kindredvineyards.com/event/sunset-music-series-andrew-chappell-kindred-vineyards-21-2/
LOCATION:Kindred Vineyards\, 14251 Frost Road\, Caldwell\, ID\, 83607\, United States
CATEGORIES:Winery
ATTACH;FMTTYPE=image/png:https://kindredvineyards.com/wp-content/uploads/2026/04/Sunset-Music-series-3-e1775706412458.png
END:VEVENT
BEGIN:VEVENT
DTSTART;TZID=America/Denver:20261015T183000
DTEND;TZID=America/Denver:20261015T203000
DTSTAMP:20260425T092510
CREATED:20260328T232706Z
LAST-MODIFIED:20260328T232803Z
UID:10000256-1792089000-1792096200@kindredvineyards.com
SUMMARY:Thursdays at the Creek (Background Live Music 6:30–8:30 PM)
DESCRIPTION:Ease into Thursday evening with wine by the creek and soft\, background live music from 6:30–8:30 PM. This is a relaxed\, ambient experience designed to complement your wine tasting experience. \nJoin us downtown for an unhurried evening: good wine\, warm light\, and music that settles quietly into the background. \nMusic this week brought to you by Kimberly Whittaker
URL:https://kindredvineyards.com/event/thursdays-at-the-creek-background-live-music-630-830-pm-26/
LOCATION:Kindred by the Creek\, 616 Main St Suite 106\, Caldwell\, ID\, 83607\, United States
CATEGORIES:Creek,Live Music
ATTACH;FMTTYPE=image/png:https://kindredvineyards.com/wp-content/uploads/2026/02/THURSDAYS-1080-x-1080-px-11-x-17-in-11-x-17-in-Instagram-Post-45-scaled.png
END:VEVENT
BEGIN:VEVENT
DTSTART;TZID=America/Denver:20261016T180000
DTEND;TZID=America/Denver:20261016T210000
DTSTAMP:20260425T092510
CREATED:20260409T160056Z
LAST-MODIFIED:20260409T160056Z
UID:10000280-1792173600-1792184400@kindredvineyards.com
SUMMARY:Sunset Music Series: Jordan Shaw @ Kindred Vineyards 21+
DESCRIPTION:Sunset Music Series – at Kindred Vineyards 21+6:00–9:00 PM \nJoin us as for our annual Sunset Music Series—an unforgettable evening of live music\, Kindred wines\, woodfired pizza\, and golden hour views from the winery. \nEvent Details: \n\n\nLive music from 6pm to 9pm\, featuring a new local artist each week \n\n\n$10 cover charge (waived with the purchase of a bottle or free for Wine Club members) \n\n\nWoodfired pizza available until 8:30pm \n\n\nRelax\, unwind\, and enjoy the sunset after hours \n\n\nPlease note: wine tasting will not be available during this event. Wine is available by the glass or bottle only. \nCome for the music\, stay for the wine\, and toast to the start of summer with us. \nThis event is for 21+ only.
URL:https://kindredvineyards.com/event/sunset-music-series-jordan-shaw-kindred-vineyards-21-3/
LOCATION:Kindred Vineyards\, 14251 Frost Road\, Caldwell\, ID\, 83607\, United States
CATEGORIES:Winery
ATTACH;FMTTYPE=image/png:https://kindredvineyards.com/wp-content/uploads/2026/04/Sunset-Music-series-3-e1775706412458.png
END:VEVENT
BEGIN:VEVENT
DTSTART;TZID=America/Denver:20261023T180000
DTEND;TZID=America/Denver:20261023T210000
DTSTAMP:20260425T092510
CREATED:20260409T160236Z
LAST-MODIFIED:20260409T160236Z
UID:10000281-1792778400-1792789200@kindredvineyards.com
SUMMARY:Final Sunset Music Series: Rochelle and the James Gang @ Kindred Vineyards 21+
DESCRIPTION:Sunset Music Series – at Kindred Vineyards 21+6:00–9:00 PM \nJoin us for the final Sunset Music Series of the season—an unforgettable evening of live music\, Kindred wines\, woodfired pizza\, and golden hour views from the winery. \nEvent Details: \n\n\nLive music from 6pm to 9pm\, featuring a new local artist each week \n\n\n$10 cover charge (waived with the purchase of a bottle or free for Wine Club members) \n\n\nWoodfired pizza available until 8:30pm \n\n\nRelax\, unwind\, and enjoy the sunset after hours \n\n\nPlease note: wine tasting will not be available during this event. Wine is available by the glass or bottle only. \nCome for the music\, stay for the wine\, and toast to the start of summer with us. \nThis event is for 21+ only.
URL:https://kindredvineyards.com/event/final-sunset-music-series-rochelle-and-the-james-gang-kindred-vineyards-21/
LOCATION:Kindred Vineyards\, 14251 Frost Road\, Caldwell\, ID\, 83607\, United States
CATEGORIES:Winery
ATTACH;FMTTYPE=image/png:https://kindredvineyards.com/wp-content/uploads/2026/04/Sunset-Music-series-3-e1775706412458.png
END:VEVENT
END:VCALENDAR